BEGIN:VCALENDAR
VERSION:2.0
PRODID:-//Esplanade Photo - ECPv6.15.20//NONSGML v1.0//EN
CALSCALE:GREGORIAN
METHOD:PUBLISH
X-WR-CALNAME:Esplanade Photo
X-ORIGINAL-URL:https://www.esplanadephoto.org
X-WR-CALDESC:Évènements pour Esplanade Photo
REFRESH-INTERVAL;VALUE=DURATION:PT1H
X-Robots-Tag:noindex
X-PUBLISHED-TTL:PT1H
BEGIN:VTIMEZONE
TZID:Europe/Paris
BEGIN:DAYLIGHT
TZOFFSETFROM:+0100
TZOFFSETTO:+0200
TZNAME:CEST
DTSTART:20200329T010000
END:DAYLIGHT
BEGIN:STANDARD
TZOFFSETFROM:+0200
TZOFFSETTO:+0100
TZNAME:CET
DTSTART:20201025T010000
END:STANDARD
BEGIN:DAYLIGHT
TZOFFSETFROM:+0100
TZOFFSETTO:+0200
TZNAME:CEST
DTSTART:20210328T010000
END:DAYLIGHT
BEGIN:STANDARD
TZOFFSETFROM:+0200
TZOFFSETTO:+0100
TZNAME:CET
DTSTART:20211031T010000
END:STANDARD
BEGIN:DAYLIGHT
TZOFFSETFROM:+0100
TZOFFSETTO:+0200
TZNAME:CEST
DTSTART:20220327T010000
END:DAYLIGHT
BEGIN:STANDARD
TZOFFSETFROM:+0200
TZOFFSETTO:+0100
TZNAME:CET
DTSTART:20221030T010000
END:STANDARD
BEGIN:DAYLIGHT
TZOFFSETFROM:+0100
TZOFFSETTO:+0200
TZNAME:CEST
DTSTART:20230326T010000
END:DAYLIGHT
BEGIN:STANDARD
TZOFFSETFROM:+0200
TZOFFSETTO:+0100
TZNAME:CET
DTSTART:20231029T010000
END:STANDARD
END:VTIMEZONE
BEGIN:VEVENT
DTSTART;VALUE=DATE:20211217
DTEND;VALUE=DATE:20220121
DTSTAMP:20260423T015127
CREATED:20211213T065228Z
LAST-MODIFIED:20211213T065718Z
UID:10264-1639699200-1642723199@www.esplanadephoto.org
SUMMARY:Exposition Rapid Eye Movement du photographe Grégoire MÄHLER
DESCRIPTION:La galerie Esplanade Photo est heureuse de présenter l’exposition « Rapid Eye Movement » du photographe Grégoire MÄHLER.\nExposition du 17 décembre au 20 janvier 2022.
URL:https://www.esplanadephoto.org/calendrier-esplanade-photo/exposition-rapid-eye-movement-du-photographe-gregoire-mahler/
LOCATION:Galerie Esplanade Photo
CATEGORIES:Galerie Esplanade Photo
ATTACH;FMTTYPE=image/jpeg:https://www.esplanadephoto.org/wp-content/uploads/2021/12/Esplanade-Photo-RAPID-EYE-MOVEMENT-Grégoire-MAHLER.jpg
END:VEVENT
BEGIN:VEVENT
DTSTART;TZID=Europe/Paris:20220104T193000
DTEND;TZID=Europe/Paris:20220104T205500
DTSTAMP:20260423T015127
CREATED:20210423T193855Z
LAST-MODIFIED:20211228T075132Z
UID:8928-1641324600-1641329700@www.esplanadephoto.org
SUMMARY:Analyse d’Images en ligne (AIW) 2022-01-04
DESCRIPTION:Analyse d’Images en ligne (AIW) 2022-01-04.\nCet atelier interactif en ligne et en direct a pour but de vous expliquer ce qui va bien et ce qui est à améliorer sur les photos de nos trois défis.\nRéunions mensuelles\, les mardis\, de 19h30 à 20h55 de septembre à juin.
URL:https://www.esplanadephoto.org/calendrier-esplanade-photo/analyse-dimages-en-ligne-aiw-2022-01-04/
LOCATION:Atelier interactif en ligne et en direct sur www.esplanadephoto.org
CATEGORIES:Analyse d’Images en ligne 2021-2022
ATTACH;FMTTYPE=image/jpeg:https://www.esplanadephoto.org/wp-content/uploads/2021/04/apres-la-pluie-a-La-Defense-Paris_05.jpg
ORGANIZER;CN="Association ESPLANADE PHOTO":MAILTO:contact@esplanadephoto.org
END:VEVENT
BEGIN:VEVENT
DTSTART;TZID=Europe/Paris:20220111T200000
DTEND;TZID=Europe/Paris:20220111T220000
DTSTAMP:20260423T015127
CREATED:20210512T184051Z
LAST-MODIFIED:20210512T184149Z
UID:9175-1641931200-1641938400@www.esplanadephoto.org
SUMMARY:Atelier Regard d'Auteur en ligne (RAW) 2022-01-11
DESCRIPTION:Atelier Regard d’Auteur en ligne (RAW) 2022-01-11.\nVous avez le sentiment de ne plus avancer et envie d’aller plus loin dans votre pratique photographique ? L’atelier « Regard d’Auteur » vous donnera un certain nombre de conseils pour aiguiser votre pratique\, affûter votre œil et trouver votre propre style.\nRéunions mensuelles\, les mardis\, de 19h30 à 22h00 de septembre à juin.
URL:https://www.esplanadephoto.org/calendrier-esplanade-photo/atelier-regard-dauteur-en-ligne-raw-2022-01-11/
LOCATION:Atelier interactif en ligne et en direct sur www.esplanadephoto.org
CATEGORIES:Atelier Regard d'Auteur en ligne
ATTACH;FMTTYPE=image/jpeg:https://www.esplanadephoto.org/wp-content/uploads/2021/04/Esplanade-photo-la-Defense-sous-la-neige_06.jpg
ORGANIZER;CN="Association ESPLANADE PHOTO":MAILTO:contact@esplanadephoto.org
END:VEVENT
BEGIN:VEVENT
DTSTART;TZID=Europe/Paris:20220113T193000
DTEND;TZID=Europe/Paris:20220113T220000
DTSTAMP:20260423T015127
CREATED:20210423T054907Z
LAST-MODIFIED:20210424T124919Z
UID:8800-1642102200-1642111200@www.esplanadephoto.org
SUMMARY:Atelier Prise de Vue Photo Avancé (PVPA) 2022-01-13
DESCRIPTION:Atelier Prise de Vue Photo Avancé (PVPA) 2022-01-13.\nVous avez l’impression de stagner ? Cet atelier technique et créatif en salle vous apportera des clés pour progresser en photographie et stimuler votre créativité.\nRéunion mensuelle de 19h30 à 22h.\nLieu : Maison des Associations – Espace Regnault 12\, Square Henri Regnault\, 92400 Courbevoie.
URL:https://www.esplanadephoto.org/calendrier-esplanade-photo/atelier-prise-de-vue-photo-avance-pvpa-2022-01-13/
LOCATION:Maison des Associations – Espace Regnault\, 12\, Square Henri Regnault\, Courbevoie\, 92400\, France
CATEGORIES:Atelier prise de vue photo avancé 2021-2022
ATTACH;FMTTYPE=image/jpeg:https://www.esplanadephoto.org/wp-content/uploads/2020/08/FLEURS-DE-NOS-JARDINS_05.jpg
ORGANIZER;CN="Association ESPLANADE PHOTO":MAILTO:contact@esplanadephoto.org
END:VEVENT
BEGIN:VEVENT
DTSTART;TZID=Europe/Paris:20220120T200000
DTEND;TZID=Europe/Paris:20220120T210000
DTSTAMP:20260423T015127
CREATED:20220114T110551Z
LAST-MODIFIED:20220114T111159Z
UID:10362-1642708800-1642712400@www.esplanadephoto.org
SUMMARY:VERNISSAGE DE L’EXPOSITION - Une saison en Inde du photographe Brahms DIRSIPO
DESCRIPTION:VERNISSAGE DE L’EXPOSITION « Une saison en Inde » du photographe Brahms DIRSIPO.\nVernissage en ligne sur invitation le jeudi 20 janvier de 20h à 21h. Pour vous inscrire\, cliquez ICI.
URL:https://www.esplanadephoto.org/calendrier-esplanade-photo/vernissage-de-lexposition-une-saison-en-inde-du-photographe-brahms-dirsipo/
LOCATION:Galerie Esplanade Photo
CATEGORIES:Galerie Esplanade Photo
ATTACH;FMTTYPE=image/jpeg:https://www.esplanadephoto.org/wp-content/uploads/2022/01/Esplanade-Photo-Une-saison-en-Inde-du-photographe-Brahms-DIRSIPO-scaled.jpg
END:VEVENT
BEGIN:VEVENT
DTSTART;VALUE=DATE:20220121
DTEND;VALUE=DATE:20220218
DTSTAMP:20260423T015128
CREATED:20220114T111406Z
LAST-MODIFIED:20220114T111759Z
UID:10365-1642723200-1645142399@www.esplanadephoto.org
SUMMARY:EXPOSITION PHOTO - Une saison en Inde du photographe Brahms DIRSIPO
DESCRIPTION:La galerie Esplanade Photo est heureuse de présenter l’exposition « Une saison en Inde » du photographe Brahms DIRSIPO.\nExposition du 21 janvier au 17 février.
URL:https://www.esplanadephoto.org/calendrier-esplanade-photo/exposition-photo-une-saison-en-inde-du-photographe-brahms-dirsipo/
LOCATION:Galerie Esplanade Photo
CATEGORIES:Galerie Esplanade Photo
ATTACH;FMTTYPE=image/jpeg:https://www.esplanadephoto.org/wp-content/uploads/2022/01/Esplanade-Photo-Une-saison-en-Inde-du-photographe-Brahms-DIRSIPO-scaled.jpg
END:VEVENT
BEGIN:VEVENT
DTSTART;TZID=Europe/Paris:20220122T090000
DTEND;TZID=Europe/Paris:20220122T113000
DTSTAMP:20260423T015128
CREATED:20210423T062228Z
LAST-MODIFIED:20210423T062338Z
UID:8825-1642842000-1642851000@www.esplanadephoto.org
SUMMARY:Atelier Balades Photographiques à la Défense (BPD) 2022-01-22
DESCRIPTION:Atelier Balades Photographiques à la Défense (BPD) 2022-01-22.\nSorties photos thématiques permettant d’affuter votre regard\, d’échanger sur le terrain avec des exemples concrets sur les techniques\, le fonctionnement de votre appareil photo. Libérez votre talent artistique !\nLes samedis à La Défense de 09h00 à 11h30.
URL:https://www.esplanadephoto.org/calendrier-esplanade-photo/atelier-balades-photographiques-a-la-defense-bpd-2022-01-22/
LOCATION:Esplanade de la Défense\, 7\, Place de la Défense\, Courbevoie\, 92400\, France
CATEGORIES:Balades Photographiques à la Défense 2021-2022
ATTACH;FMTTYPE=image/jpeg:https://www.esplanadephoto.org/wp-content/uploads/2020/08/Vue-sur-la-Defense-en-infrarouge_05.jpg
ORGANIZER;CN="Association ESPLANADE PHOTO":MAILTO:contact@esplanadephoto.org
END:VEVENT
BEGIN:VEVENT
DTSTART;TZID=Europe/Paris:20220122T143000
DTEND;TZID=Europe/Paris:20220122T160000
DTSTAMP:20260423T015128
CREATED:20210423T192112Z
LAST-MODIFIED:20210423T192318Z
UID:8908-1642861800-1642867200@www.esplanadephoto.org
SUMMARY:Visites Photographiques à Paris (VPP) 2022-01-22
DESCRIPTION:Visites Photographiques à Paris (VPP) 2022-01-22.\nNous nous retrouvons pour une visite d’exposition\, moyen essentiel d’acquérir ou d’approfondir sa culture photographique.\nNous annoncerons le nom de l’exposition et le lieu sur le forum une semaine à l’avance.\nVisites mensuelles les samedis à Paris de 14h30 à 16h00.
URL:https://www.esplanadephoto.org/calendrier-esplanade-photo/visites-photographiques-a-paris-vpp-2022-01-22/
LOCATION:Paris\, Parvis de l’Hôtel de Ville\, Paris\, 75004\, France
CATEGORIES:Visites Photographiques 2021-2022
ATTACH;FMTTYPE=image/jpeg:https://www.esplanadephoto.org/wp-content/uploads/2021/04/Silence-ca-pousse-a-la-Defense_05.jpg
ORGANIZER;CN="Association ESPLANADE PHOTO":MAILTO:contact@esplanadephoto.org
END:VEVENT
BEGIN:VEVENT
DTSTART;TZID=Europe/Paris:20220123T143000
DTEND;TZID=Europe/Paris:20220123T170000
DTSTAMP:20260423T015128
CREATED:20210423T064231Z
LAST-MODIFIED:20210423T064338Z
UID:8846-1642948200-1642957200@www.esplanadephoto.org
SUMMARY:Atelier Balades Photographiques à Paris (BPP) 2022-01-23
DESCRIPTION:Atelier Balades Photographiques à Paris (BPP) 2022-01-23.\nSorties photos thématiques permettant d’affuter votre regard\, d’échanger sur le terrain avec des exemples concrets sur les techniques\, le fonctionnement de votre appareil photo. Libérez votre talent artistique !\nLes dimanches à Paris de 14h30 à 17h00.
URL:https://www.esplanadephoto.org/calendrier-esplanade-photo/atelier-balades-photographiques-a-paris-bpp-2022-01-23/
LOCATION:Paris\, Parvis de l’Hôtel de Ville\, Paris\, 75004\, France
CATEGORIES:Balades Photographiques à Paris 2021-2022
ATTACH;FMTTYPE=image/jpeg:https://www.esplanadephoto.org/wp-content/uploads/2020/08/SIGNES-DU-TEMPS_05.jpg
ORGANIZER;CN="Association ESPLANADE PHOTO":MAILTO:contact@esplanadephoto.org
END:VEVENT
BEGIN:VEVENT
DTSTART;TZID=Europe/Paris:20220125T193000
DTEND;TZID=Europe/Paris:20220125T220000
DTSTAMP:20260423T015128
CREATED:20210424T120945Z
LAST-MODIFIED:20211223T170220Z
UID:9013-1643139000-1643148000@www.esplanadephoto.org
SUMMARY:Atelier Retouche Photo en ligne (RPW) 2022-01-25
DESCRIPTION:Atelier Retouche Photo en ligne (RPW) 2022-01-25.\nDans cet atelier vous apprendrez les techniques de post production consistant à corriger\, optimiser et sublimer vos photographies. Vous allez passer à la pratique avec des exemples concrets à partir de photos proposées et de vos propres photos !\nTravaux pratiques réguliers.\nNous aborderons les logiciels suivants : LIGHTROOM\, PHOTOSHOP\, DXO PHOTOLAB et AFFINITY PHOTO.\nRéunion mensuelle\, de 19h30 à 22h.\nEn Savoir Plus » ICI
URL:https://www.esplanadephoto.org/calendrier-esplanade-photo/atelier-retouche-photo-en-ligne-rpw-2022-01-25/
LOCATION:Atelier interactif en ligne et en direct sur www.esplanadephoto.org
CATEGORIES:Atelier Retouche Photo Avancé en ligne (RPAW) 2021-2022,Atelier Retouche Photo en ligne (RPW) 2021-2022
ATTACH;FMTTYPE=image/jpeg:https://www.esplanadephoto.org/wp-content/uploads/2020/08/Vue-den-bas-de-la-Defense_05.jpg
ORGANIZER;CN="Association ESPLANADE PHOTO":MAILTO:contact@esplanadephoto.org
END:VEVENT
END:VCALENDAR