BEGIN:VCALENDAR
VERSION:2.0
PRODID:-//Esplanade Photo - ECPv6.15.20//NONSGML v1.0//EN
CALSCALE:GREGORIAN
METHOD:PUBLISH
X-WR-CALNAME:Esplanade Photo
X-ORIGINAL-URL:https://www.esplanadephoto.org
X-WR-CALDESC:Évènements pour Esplanade Photo
REFRESH-INTERVAL;VALUE=DURATION:PT1H
X-Robots-Tag:noindex
X-PUBLISHED-TTL:PT1H
BEGIN:VTIMEZONE
TZID:Europe/Paris
BEGIN:DAYLIGHT
TZOFFSETFROM:+0100
TZOFFSETTO:+0200
TZNAME:CEST
DTSTART:20200329T010000
END:DAYLIGHT
BEGIN:STANDARD
TZOFFSETFROM:+0200
TZOFFSETTO:+0100
TZNAME:CET
DTSTART:20201025T010000
END:STANDARD
BEGIN:DAYLIGHT
TZOFFSETFROM:+0100
TZOFFSETTO:+0200
TZNAME:CEST
DTSTART:20210328T010000
END:DAYLIGHT
BEGIN:STANDARD
TZOFFSETFROM:+0200
TZOFFSETTO:+0100
TZNAME:CET
DTSTART:20211031T010000
END:STANDARD
BEGIN:DAYLIGHT
TZOFFSETFROM:+0100
TZOFFSETTO:+0200
TZNAME:CEST
DTSTART:20220327T010000
END:DAYLIGHT
BEGIN:STANDARD
TZOFFSETFROM:+0200
TZOFFSETTO:+0100
TZNAME:CET
DTSTART:20221030T010000
END:STANDARD
BEGIN:DAYLIGHT
TZOFFSETFROM:+0100
TZOFFSETTO:+0200
TZNAME:CEST
DTSTART:20230326T010000
END:DAYLIGHT
BEGIN:STANDARD
TZOFFSETFROM:+0200
TZOFFSETTO:+0100
TZNAME:CET
DTSTART:20231029T010000
END:STANDARD
END:VTIMEZONE
BEGIN:VEVENT
DTSTART;VALUE=DATE:20211126
DTEND;VALUE=DATE:20211217
DTSTAMP:20260423T025945
CREATED:20211213T070644Z
LAST-MODIFIED:20211213T071416Z
UID:10271-1637884800-1639699199@www.esplanadephoto.org
SUMMARY:Exposition Promenade photographique en Bretagne du photographe Marc CHAUVIN
DESCRIPTION:La galerie Esplanade Photo est heureuse de présenter l’exposition « Promenade photographique en Bretagne » du photographe Marc CHAUVIN.\nPour accéder à l’exposition interactive et virtuelle\, cliquez sur « Promenade photographique en Bretagne ».
URL:https://www.esplanadephoto.org/calendrier-esplanade-photo/exposition-promenade-photographique-en-bretagne-du-photographe-marc-chauvin/
LOCATION:Galerie Esplanade Photo
CATEGORIES:Galerie Esplanade Photo
ATTACH;FMTTYPE=image/jpeg:https://www.esplanadephoto.org/wp-content/uploads/2021/11/Esplanade-Photo-PROMENADE-PHOTOGRAPHIQUE-EN-BRETAGNE-Marc-CHAUVIN_01_web-scaled.jpg
END:VEVENT
BEGIN:VEVENT
DTSTART;TZID=Europe/Paris:20211202T193000
DTEND;TZID=Europe/Paris:20211202T220000
DTSTAMP:20260423T025945
CREATED:20210423T050929Z
LAST-MODIFIED:20210424T123355Z
UID:8765-1638473400-1638482400@www.esplanadephoto.org
SUMMARY:Atelier Prise de Vue Photo Initiation (PVPI) 2021-12-02
DESCRIPTION:Atelier Prise de Vue Photo Initiation (PVPI) 2021-12-02.\nAteliers  photo en salle pour ceux qui viennent d’acquérir ou qui prévoient d’acquérir un appareil photo et qui veulent comprendre ses réglages pour mettre à profit toutes ses possibilités.\nRéunion mensuelle de 19h30 à 22h.\nLieu : Maison des Associations – Espace Regnault 12\, Square Henri Regnault\, 92400 Courbevoie.
URL:https://www.esplanadephoto.org/calendrier-esplanade-photo/atelier-prise-de-vue-photo-initiation-pvpi-2021-12-02/
LOCATION:Maison des Associations – Espace Regnault\, 12\, Square Henri Regnault\, Courbevoie\, 92400\, France
CATEGORIES:Atelier Prise de Vue Photo initiation 2021-2022
ATTACH;FMTTYPE=image/jpeg:https://www.esplanadephoto.org/wp-content/uploads/2020/08/INSECTES-DE-NOS-JARDINS_07.jpg
ORGANIZER;CN="Association ESPLANADE PHOTO":MAILTO:contact@esplanadephoto.org
END:VEVENT
BEGIN:VEVENT
DTSTART;TZID=Europe/Paris:20211204T143000
DTEND;TZID=Europe/Paris:20211204T160000
DTSTAMP:20260423T025945
CREATED:20210423T191904Z
LAST-MODIFIED:20211115T135919Z
UID:8904-1638628200-1638633600@www.esplanadephoto.org
SUMMARY:Visites Photographiques à Paris (VPP) 2021-12-04
DESCRIPTION:Visites Photographiques à Paris (VPP) 2021-12-04.\nNous nous retrouvons pour une visite d’exposition\, moyen essentiel d’acquérir ou d’approfondir sa culture photographique.\nNous annoncerons le nom de l’exposition et le lieu sur le forum une semaine à l’avance.\nVisites mensuelles les samedis à Paris de 14h30 à 16h00.
URL:https://www.esplanadephoto.org/calendrier-esplanade-photo/visites-photographiques-a-paris-vpp-2021-12-04/
LOCATION:Paris\, Parvis de l’Hôtel de Ville\, Paris\, 75004\, France
CATEGORIES:Visites Photographiques 2021-2022
ATTACH;FMTTYPE=image/jpeg:https://www.esplanadephoto.org/wp-content/uploads/2021/04/Silence-ca-pousse-a-la-Defense_04.jpg
ORGANIZER;CN="Association ESPLANADE PHOTO":MAILTO:contact@esplanadephoto.org
END:VEVENT
BEGIN:VEVENT
DTSTART;TZID=Europe/Paris:20211205T143000
DTEND;TZID=Europe/Paris:20211205T170000
DTSTAMP:20260423T025946
CREATED:20210423T064117Z
LAST-MODIFIED:20211115T140042Z
UID:8844-1638714600-1638723600@www.esplanadephoto.org
SUMMARY:Atelier Balades Photographiques à Paris (BPP) 2021-12-05
DESCRIPTION:Atelier Balades Photographiques à Paris (BPP) 2021-12-05.\nSorties photos thématiques permettant d’affuter votre regard\, d’échanger sur le terrain avec des exemples concrets sur les techniques\, le fonctionnement de votre appareil photo. Libérez votre talent artistique !\nLes dimanches à Paris de 14h30 à 17h00.
URL:https://www.esplanadephoto.org/calendrier-esplanade-photo/atelier-balades-photographiques-a-paris-bpp-2021-12-05/
LOCATION:Paris\, Parvis de l’Hôtel de Ville\, Paris\, 75004\, France
CATEGORIES:Balades Photographiques à Paris 2021-2022
ATTACH;FMTTYPE=image/jpeg:https://www.esplanadephoto.org/wp-content/uploads/2020/08/SIGNES-DU-TEMPS_04.jpg
ORGANIZER;CN="Association ESPLANADE PHOTO":MAILTO:contact@esplanadephoto.org
END:VEVENT
BEGIN:VEVENT
DTSTART;TZID=Europe/Paris:20211207T200000
DTEND;TZID=Europe/Paris:20211207T220000
DTSTAMP:20260423T025946
CREATED:20210423T193757Z
LAST-MODIFIED:20210423T193850Z
UID:8926-1638907200-1638914400@www.esplanadephoto.org
SUMMARY:Analyse d’Images en ligne (AIW) 2021-12-07
DESCRIPTION:Analyse d’Images en ligne (AIW) 2021-12-07.\nCet atelier interactif en ligne et en direct a pour but de vous expliquer ce qui va bien et ce qui est à améliorer sur les photos de nos trois défis.\nRéunions mensuelles\, les mardis\, de 20h00 à 22h00 de septembre à juin.
URL:https://www.esplanadephoto.org/calendrier-esplanade-photo/analyse-dimages-en-ligne-aiw-2021-12-07/
LOCATION:Atelier interactif en ligne et en direct sur www.esplanadephoto.org
CATEGORIES:Analyse d’Images en ligne 2021-2022
ATTACH;FMTTYPE=image/jpeg:https://www.esplanadephoto.org/wp-content/uploads/2021/04/apres-la-pluie-a-La-Defense-Paris_04.jpg
ORGANIZER;CN="Association ESPLANADE PHOTO":MAILTO:contact@esplanadephoto.org
END:VEVENT
BEGIN:VEVENT
DTSTART;TZID=Europe/Paris:20211209T193000
DTEND;TZID=Europe/Paris:20211209T220000
DTSTAMP:20260423T025946
CREATED:20210423T054759Z
LAST-MODIFIED:20210424T125131Z
UID:8798-1639078200-1639087200@www.esplanadephoto.org
SUMMARY:Atelier Prise de Vue Photo Avancé (PVPA) 2021-12-09
DESCRIPTION:Atelier Prise de Vue Photo Avancé (PVPA) 2021-12-09.\nVous avez l’impression de stagner ? Cet atelier technique et créatif en salle vous apportera des clés pour progresser en photographie et stimuler votre créativité.\nRéunion mensuelle de 19h30 à 22h.\nLieu : Maison des Associations – Espace Regnault 12\, Square Henri Regnault\, 92400 Courbevoie.
URL:https://www.esplanadephoto.org/calendrier-esplanade-photo/atelier-prise-de-vue-photo-avance-pvpa-2021-12-09/
LOCATION:Maison des Associations – Espace Regnault\, 12\, Square Henri Regnault\, Courbevoie\, 92400\, France
CATEGORIES:Atelier prise de vue photo avancé 2021-2022
ATTACH;FMTTYPE=image/jpeg:https://www.esplanadephoto.org/wp-content/uploads/2020/08/FLEURS-DE-NOS-JARDINS_04.jpg
ORGANIZER;CN="Association ESPLANADE PHOTO":MAILTO:contact@esplanadephoto.org
END:VEVENT
BEGIN:VEVENT
DTSTART;TZID=Europe/Paris:20211211T090000
DTEND;TZID=Europe/Paris:20211211T113000
DTSTAMP:20260423T025946
CREATED:20210423T061809Z
LAST-MODIFIED:20210423T062103Z
UID:8821-1639213200-1639222200@www.esplanadephoto.org
SUMMARY:Atelier Balades Photographiques à la Défense (BPD) 2021-12-11
DESCRIPTION:Atelier Balades Photographiques à la Défense (BPD) 2021-12-11.\nSorties photos thématiques permettant d’affuter votre regard\, d’échanger sur le terrain avec des exemples concrets sur les techniques\, le fonctionnement de votre appareil photo. Libérez votre talent artistique !\nLes samedis à La Défense de 09h00 à 11h30.
URL:https://www.esplanadephoto.org/calendrier-esplanade-photo/atelier-balades-photographiques-a-la-defense-bpd-2021-12-11/
LOCATION:Esplanade de la Défense\, 7\, Place de la Défense\, Courbevoie\, 92400\, France
CATEGORIES:Balades Photographiques à la Défense 2021-2022
ATTACH;FMTTYPE=image/jpeg:https://www.esplanadephoto.org/wp-content/uploads/2020/08/Vue-sur-la-Defense-en-infrarouge_05.jpg
ORGANIZER;CN="Association ESPLANADE PHOTO":MAILTO:contact@esplanadephoto.org
END:VEVENT
BEGIN:VEVENT
DTSTART;TZID=Europe/Paris:20211211T150000
DTEND;TZID=Europe/Paris:20211211T180000
DTSTAMP:20260423T025946
CREATED:20211201T072330Z
LAST-MODIFIED:20221029T101313Z
UID:10234-1639234800-1639245600@www.esplanadephoto.org
SUMMARY:Opération Père Noël  2021-12-11
DESCRIPTION:Opération Père Noël 2021-12-11
URL:https://www.esplanadephoto.org/calendrier-esplanade-photo/operation-pere-noel-2021-12-11/
LOCATION:Issy-les Moulineaux\, Esplanade de l’Hôtel de Ville 62 rue du Général Leclerc\, Issy-les-Moulineaux\, 92130\, France
CATEGORIES:Opération Père Noël
ATTACH;FMTTYPE=image/jpeg:https://www.esplanadephoto.org/wp-content/uploads/2019/12/Marché-de-Noël-2019.jpg
END:VEVENT
BEGIN:VEVENT
DTSTART;TZID=Europe/Paris:20211212T150000
DTEND;TZID=Europe/Paris:20211212T180000
DTSTAMP:20260423T025946
CREATED:20211201T072532Z
LAST-MODIFIED:20221029T101503Z
UID:10236-1639321200-1639332000@www.esplanadephoto.org
SUMMARY:Opération Père Noël  2021-12-12
DESCRIPTION:Opération Père Noël 2021-12-12
URL:https://www.esplanadephoto.org/calendrier-esplanade-photo/operation-pere-noel-2021-12-12/
LOCATION:Issy-les Moulineaux\, Esplanade de l’Hôtel de Ville 62 rue du Général Leclerc\, Issy-les-Moulineaux\, 92130\, France
CATEGORIES:Opération Père Noël
ATTACH;FMTTYPE=image/jpeg:https://www.esplanadephoto.org/wp-content/uploads/2019/12/Marché-de-Noël-2019.jpg
END:VEVENT
BEGIN:VEVENT
DTSTART;TZID=Europe/Paris:20211214T200000
DTEND;TZID=Europe/Paris:20211214T220000
DTSTAMP:20260423T025946
CREATED:20210512T183935Z
LAST-MODIFIED:20210512T184046Z
UID:9173-1639512000-1639519200@www.esplanadephoto.org
SUMMARY:Atelier Regard d'Auteur en ligne (RAW) 2021-12-14
DESCRIPTION:Atelier Regard d’Auteur en ligne (RAW) 2021-12-14.\nVous avez le sentiment de ne plus avancer et envie d’aller plus loin dans votre pratique photographique ? L’atelier « Regard d’Auteur » vous donnera un certain nombre de conseils pour aiguiser votre pratique\, affûter votre œil et trouver votre propre style.\nRéunions mensuelles\, les mardis\, de 19h30 à 22h00 de septembre à juin.
URL:https://www.esplanadephoto.org/calendrier-esplanade-photo/atelier-regard-dauteur-en-ligne-raw-2021-12-14/
LOCATION:Atelier interactif en ligne et en direct sur www.esplanadephoto.org
CATEGORIES:Atelier Regard d'Auteur en ligne
ATTACH;FMTTYPE=image/jpeg:https://www.esplanadephoto.org/wp-content/uploads/2021/04/Esplanade-photo-la-Defense-sous-la-neige_07.jpg
ORGANIZER;CN="Association ESPLANADE PHOTO":MAILTO:contact@esplanadephoto.org
END:VEVENT
BEGIN:VEVENT
DTSTART;TZID=Europe/Paris:20211216T193000
DTEND;TZID=Europe/Paris:20211216T220000
DTSTAMP:20260423T025946
CREATED:20210424T101418Z
LAST-MODIFIED:20210424T101530Z
UID:8970-1639683000-1639692000@www.esplanadephoto.org
SUMMARY:Rencontres Photographiques Apéro Expo (RPAEW) 2021-12-16
DESCRIPTION:Rencontres Photographiques Apéro Expo (RPAEW) 2021-12-16.\nLieu : Maison des Associations – Espace Regnault 12\, Square Henri Regnault\, 92400 Courbevoie. De 19h30 à 22h00.\nGalerie Esplanade Photo – RDV consacrée au vernissage de notre exposition mensuelle. En ligne de 20h à 21h00.
URL:https://www.esplanadephoto.org/calendrier-esplanade-photo/rencontres-photographiques-apero-expo-rpaew-2021-12-16/
LOCATION:Maison des Associations – Espace Regnault\, 12\, Square Henri Regnault\, Courbevoie\, 92400\, France
CATEGORIES:Rencontres Photographiques Apéro Expo 2021-2022
ATTACH;FMTTYPE=image/jpeg:https://www.esplanadephoto.org/wp-content/uploads/2020/04/Nature-Morte-Feuillesr_Esplanade-Photo_04.jpg
ORGANIZER;CN="Association ESPLANADE PHOTO":MAILTO:contact@esplanadephoto.org
END:VEVENT
BEGIN:VEVENT
DTSTART;TZID=Europe/Paris:20211216T200000
DTEND;TZID=Europe/Paris:20211216T210000
DTSTAMP:20260423T025946
CREATED:20211213T064210Z
LAST-MODIFIED:20211213T064831Z
UID:10259-1639684800-1639688400@www.esplanadephoto.org
SUMMARY:VERNISSAGE DE L’EXPOSITION Rapid Eye Movement du photographe Grégoire MÄHLER
DESCRIPTION:VERNISSAGE DE L’EXPOSITION « Rapid Eye Movement » du photographe Grégoire MÄHLER.\nVernissage en ligne sur invitation le jeudi 15 décembre de 20h à 21h. Pour vous inscrire\, cliquez ICI.
URL:https://www.esplanadephoto.org/calendrier-esplanade-photo/vernissage-de-lexposition-rapid-eye-movement-du-photographe-gregoire-mahler/
LOCATION:Galerie Esplanade Photo
CATEGORIES:Galerie Esplanade Photo
ATTACH;FMTTYPE=image/jpeg:https://www.esplanadephoto.org/wp-content/uploads/2021/12/Esplanade-Photo-RAPID-EYE-MOVEMENT-Grégoire-MAHLER.jpg
END:VEVENT
BEGIN:VEVENT
DTSTART;VALUE=DATE:20211217
DTEND;VALUE=DATE:20220121
DTSTAMP:20260423T025946
CREATED:20211213T065228Z
LAST-MODIFIED:20211213T065718Z
UID:10264-1639699200-1642723199@www.esplanadephoto.org
SUMMARY:Exposition Rapid Eye Movement du photographe Grégoire MÄHLER
DESCRIPTION:La galerie Esplanade Photo est heureuse de présenter l’exposition « Rapid Eye Movement » du photographe Grégoire MÄHLER.\nExposition du 17 décembre au 20 janvier 2022.
URL:https://www.esplanadephoto.org/calendrier-esplanade-photo/exposition-rapid-eye-movement-du-photographe-gregoire-mahler/
LOCATION:Galerie Esplanade Photo
CATEGORIES:Galerie Esplanade Photo
ATTACH;FMTTYPE=image/jpeg:https://www.esplanadephoto.org/wp-content/uploads/2021/12/Esplanade-Photo-RAPID-EYE-MOVEMENT-Grégoire-MAHLER.jpg
END:VEVENT
BEGIN:VEVENT
DTSTART;TZID=Europe/Paris:20211221T193000
DTEND;TZID=Europe/Paris:20211221T220000
DTSTAMP:20260423T025946
CREATED:20210424T120842Z
LAST-MODIFIED:20210511T200953Z
UID:9011-1640115000-1640124000@www.esplanadephoto.org
SUMMARY:Atelier Retouche Photo en ligne (RPW) 2021-12-21
DESCRIPTION:Atelier Retouche Photo en ligne (RPW) 2021-12-21.\nDans cet atelier vous apprendrez les techniques de post production consistant à corriger\, optimiser et sublimer vos photographies. Vous allez passer à la pratique avec des exemples concrets à partir de photos proposées et de vos propres photos !\nTravaux pratiques réguliers.\nNous aborderons les logiciels suivants : LIGHTROOM\, PHOTOSHOP\, DXO PHOTOLAB et AFFINITY PHOTO.\nRéunion mensuelle\, de 19h30 à 22h.\nEn Savoir Plus » ICI
URL:https://www.esplanadephoto.org/calendrier-esplanade-photo/atelier-retouche-photo-en-ligne-rpw-2021-12-21/
LOCATION:Atelier interactif en ligne et en direct sur www.esplanadephoto.org
CATEGORIES:Atelier Retouche Photo en ligne (RPW) 2021-2022
ATTACH;FMTTYPE=image/jpeg:https://www.esplanadephoto.org/wp-content/uploads/2020/08/Vue-den-bas-de-la-Defense_04.jpg
ORGANIZER;CN="Association ESPLANADE PHOTO":MAILTO:contact@esplanadephoto.org
END:VEVENT
END:VCALENDAR