BEGIN:VCALENDAR
VERSION:2.0
PRODID:-//Esplanade Photo - ECPv6.15.20//NONSGML v1.0//EN
CALSCALE:GREGORIAN
METHOD:PUBLISH
X-ORIGINAL-URL:https://www.esplanadephoto.org
X-WR-CALDESC:Évènements pour Esplanade Photo
REFRESH-INTERVAL;VALUE=DURATION:PT1H
X-Robots-Tag:noindex
X-PUBLISHED-TTL:PT1H
BEGIN:VTIMEZONE
TZID:Europe/Paris
BEGIN:DAYLIGHT
TZOFFSETFROM:+0100
TZOFFSETTO:+0200
TZNAME:CEST
DTSTART:20200329T010000
END:DAYLIGHT
BEGIN:STANDARD
TZOFFSETFROM:+0200
TZOFFSETTO:+0100
TZNAME:CET
DTSTART:20201025T010000
END:STANDARD
BEGIN:DAYLIGHT
TZOFFSETFROM:+0100
TZOFFSETTO:+0200
TZNAME:CEST
DTSTART:20210328T010000
END:DAYLIGHT
BEGIN:STANDARD
TZOFFSETFROM:+0200
TZOFFSETTO:+0100
TZNAME:CET
DTSTART:20211031T010000
END:STANDARD
BEGIN:DAYLIGHT
TZOFFSETFROM:+0100
TZOFFSETTO:+0200
TZNAME:CEST
DTSTART:20220327T010000
END:DAYLIGHT
BEGIN:STANDARD
TZOFFSETFROM:+0200
TZOFFSETTO:+0100
TZNAME:CET
DTSTART:20221030T010000
END:STANDARD
END:VTIMEZONE
BEGIN:VEVENT
DTSTART;VALUE=DATE:20211022
DTEND;VALUE=DATE:20211126
DTSTAMP:20260422T223123
CREATED:20211018T192955Z
LAST-MODIFIED:20211019T062447Z
UID:10085-1634860800-1637884799@www.esplanadephoto.org
SUMMARY:Exposition "Jardim Gramacho la communauté des oubliés" de la photographe Laurence GUENOUN
DESCRIPTION:La galerie Esplanade Photo est heureuse de présenter l’exposition « Jardim Gramacho\, la communauté des oubliés » de la photographe Laurence GUENOUN.\nPour accéder à l’exposition interactive et virtuelle\, cliquez sur « Jardim Gramacho\, la communauté des oubliés ».
URL:https://www.esplanadephoto.org/calendrier-esplanade-photo/exposition-jardim-gramacho-la-communaute-des-oublies-de-la-photographe-laurence-guenoun/
LOCATION:Galerie Esplanade Photo
CATEGORIES:Galerie Esplanade Photo
ATTACH;FMTTYPE=image/jpeg:https://www.esplanadephoto.org/wp-content/uploads/2021/10/Esplanade-Photo-Jardim-Gramacho-Laurence-Guenoun_01_web-scaled.jpg
END:VEVENT
BEGIN:VEVENT
DTSTART;TZID=Europe/Paris:20211104T193000
DTEND;TZID=Europe/Paris:20211104T220000
DTSTAMP:20260422T223123
CREATED:20210423T050701Z
LAST-MODIFIED:20210424T123342Z
UID:8762-1636054200-1636063200@www.esplanadephoto.org
SUMMARY:Atelier Prise de Vue Photo Initiation (PVPI) 2021-11-04
DESCRIPTION:Atelier Prise de Vue Photo Initiation (PVPI) 2021-11-04.\nAteliers  photo en salle pour ceux qui viennent d’acquérir ou qui prévoient d’acquérir un appareil photo et qui veulent comprendre ses réglages pour mettre à profit toutes ses possibilités.\nRéunion mensuelle de 19h30 à 22h.\nLieu : Maison des Associations – Espace Regnault 12\, Square Henri Regnault\, 92400 Courbevoie.
URL:https://www.esplanadephoto.org/calendrier-esplanade-photo/atelier-prise-de-vue-photo-initiation-pvpi-2021-11-04/
LOCATION:Maison des Associations – Espace Regnault\, 12\, Square Henri Regnault\, Courbevoie\, 92400\, France
CATEGORIES:Atelier Prise de Vue Photo initiation 2021-2022
ATTACH;FMTTYPE=image/jpeg:https://www.esplanadephoto.org/wp-content/uploads/2020/08/INSECTES-DE-NOS-JARDINS_08.jpg
ORGANIZER;CN="Association ESPLANADE PHOTO":MAILTO:contact@esplanadephoto.org
END:VEVENT
BEGIN:VEVENT
DTSTART;TZID=Europe/Paris:20211109T200000
DTEND;TZID=Europe/Paris:20211109T220000
DTSTAMP:20260422T223123
CREATED:20210423T193622Z
LAST-MODIFIED:20210423T193752Z
UID:8923-1636488000-1636495200@www.esplanadephoto.org
SUMMARY:Analyse d’Images en ligne (AIW) 2021-11-09
DESCRIPTION:Analyse d’Images en ligne (AIW) 2021-11-09.\nCet atelier interactif en ligne et en direct a pour but de vous expliquer ce qui va bien et ce qui est à améliorer sur les photos de nos trois défis.\nRéunions mensuelles\, les mardis\, de 20h00 à 22h00 de septembre à juin.
URL:https://www.esplanadephoto.org/calendrier-esplanade-photo/analyse-dimages-en-ligne-aiw-2021-11-09/
LOCATION:Atelier interactif en ligne et en direct sur www.esplanadephoto.org
CATEGORIES:Analyse d’Images en ligne 2021-2022
ATTACH;FMTTYPE=image/jpeg:https://www.esplanadephoto.org/wp-content/uploads/2021/04/apres-la-pluie-a-La-Defense-Paris_03.jpg
ORGANIZER;CN="Association ESPLANADE PHOTO":MAILTO:contact@esplanadephoto.org
END:VEVENT
BEGIN:VEVENT
DTSTART;TZID=Europe/Paris:20211116T200000
DTEND;TZID=Europe/Paris:20211116T220000
DTSTAMP:20260422T223123
CREATED:20210512T183819Z
LAST-MODIFIED:20210512T183930Z
UID:9171-1637092800-1637100000@www.esplanadephoto.org
SUMMARY:Atelier Regard d'Auteur en ligne (RAW) 2021-11-16
DESCRIPTION:Atelier Regard d’Auteur en ligne (RAW) 2021-11-16.\nVous avez le sentiment de ne plus avancer et envie d’aller plus loin dans votre pratique photographique ? L’atelier « Regard d’Auteur » vous donnera un certain nombre de conseils pour aiguiser votre pratique\, affûter votre œil et trouver votre propre style.\nRéunions mensuelles\, les mardis\, de 19h30 à 22h00 de septembre à juin.
URL:https://www.esplanadephoto.org/calendrier-esplanade-photo/atelier-regard-dauteur-en-ligne-raw-2021-11-16/
LOCATION:Atelier interactif en ligne et en direct sur www.esplanadephoto.org
CATEGORIES:Atelier Regard d'Auteur en ligne
ATTACH;FMTTYPE=image/jpeg:https://www.esplanadephoto.org/wp-content/uploads/2021/04/Esplanade-photo-la-Defense-sous-la-neige_08.jpg
ORGANIZER;CN="Association ESPLANADE PHOTO":MAILTO:contact@esplanadephoto.org
END:VEVENT
BEGIN:VEVENT
DTSTART;TZID=Europe/Paris:20211118T193000
DTEND;TZID=Europe/Paris:20211118T220000
DTSTAMP:20260422T223123
CREATED:20210423T054615Z
LAST-MODIFIED:20210424T125114Z
UID:8795-1637263800-1637272800@www.esplanadephoto.org
SUMMARY:Atelier Prise de Vue Photo Avancé (PVPA) 2021-11-18
DESCRIPTION:Atelier Prise de Vue Photo Avancé (PVPA) 2021-11-18.\nVous avez l’impression de stagner ? Cet atelier technique et créatif en salle vous apportera des clés pour progresser en photographie et stimuler votre créativité.\nRéunion mensuelle de 19h30 à 22h.\nLieu : Maison des Associations – Espace Regnault 12\, Square Henri Regnault\, 92400 Courbevoie.
URL:https://www.esplanadephoto.org/calendrier-esplanade-photo/atelier-prise-de-vue-photo-avance-pvpa-2021-11-18/
LOCATION:Maison des Associations – Espace Regnault\, 12\, Square Henri Regnault\, Courbevoie\, 92400\, France
CATEGORIES:Atelier prise de vue photo avancé 2021-2022
ATTACH;FMTTYPE=image/jpeg:https://www.esplanadephoto.org/wp-content/uploads/2020/08/FLEURS-DE-NOS-JARDINS_03.jpg
ORGANIZER;CN="Association ESPLANADE PHOTO":MAILTO:contact@esplanadephoto.org
END:VEVENT
BEGIN:VEVENT
DTSTART;TZID=Europe/Paris:20211120T090000
DTEND;TZID=Europe/Paris:20211120T113000
DTSTAMP:20260422T223123
CREATED:20210423T061631Z
LAST-MODIFIED:20210423T062145Z
UID:8819-1637398800-1637407800@www.esplanadephoto.org
SUMMARY:Atelier Balades Photographiques à la Défense (BPD) 2021-11-20
DESCRIPTION:Atelier Balades Photographiques à la Défense (BPD) 2021-11-20.\nSorties photos thématiques permettant d’affuter votre regard\, d’échanger sur le terrain avec des exemples concrets sur les techniques\, le fonctionnement de votre appareil photo. Libérez votre talent artistique !\nLes samedis à La Défense de 09h00 à 11h30.
URL:https://www.esplanadephoto.org/calendrier-esplanade-photo/atelier-balades-photographiques-a-la-defense-bpd-2021-11-20/
LOCATION:Esplanade de la Défense\, 7\, Place de la Défense\, Courbevoie\, 92400\, France
CATEGORIES:Balades Photographiques à la Défense 2021-2022
ATTACH;FMTTYPE=image/jpeg:https://www.esplanadephoto.org/wp-content/uploads/2020/08/Vue-sur-la-Defense-en-infrarouge_03.jpg
ORGANIZER;CN="Association ESPLANADE PHOTO":MAILTO:contact@esplanadephoto.org
END:VEVENT
BEGIN:VEVENT
DTSTART;TZID=Europe/Paris:20211120T143000
DTEND;TZID=Europe/Paris:20211120T160000
DTSTAMP:20260422T223123
CREATED:20210423T191635Z
LAST-MODIFIED:20210423T191859Z
UID:8902-1637418600-1637424000@www.esplanadephoto.org
SUMMARY:Visites Photographiques à Paris (VPP) 2021-11-20
DESCRIPTION:Visites Photographiques à Paris (VPP) 2021-11-20.\nNous nous retrouvons pour une visite d’exposition\, moyen essentiel d’acquérir ou d’approfondir sa culture photographique.\nNous annoncerons le nom de l’exposition et le lieu sur le forum une semaine à l’avance.\nVisites mensuelles les samedis à Paris de 14h30 à 16h00.
URL:https://www.esplanadephoto.org/calendrier-esplanade-photo/visites-photographiques-a-paris-vpp-2021-11-20/
LOCATION:Paris\, Parvis de l’Hôtel de Ville\, Paris\, 75004\, France
CATEGORIES:Visites Photographiques 2021-2022
ATTACH;FMTTYPE=image/jpeg:https://www.esplanadephoto.org/wp-content/uploads/2021/04/Silence-ca-pousse-a-la-Defense_03.jpg
ORGANIZER;CN="Association ESPLANADE PHOTO":MAILTO:contact@esplanadephoto.org
END:VEVENT
BEGIN:VEVENT
DTSTART;TZID=Europe/Paris:20211121T143000
DTEND;TZID=Europe/Paris:20211121T170000
DTSTAMP:20260422T223123
CREATED:20210423T064008Z
LAST-MODIFIED:20210423T064106Z
UID:8842-1637505000-1637514000@www.esplanadephoto.org
SUMMARY:Atelier Balades Photographiques à Paris (BPP) 2021-11-21
DESCRIPTION:Atelier Balades Photographiques à Paris (BPP) 2021-11-21.\nSorties photos thématiques permettant d’affuter votre regard\, d’échanger sur le terrain avec des exemples concrets sur les techniques\, le fonctionnement de votre appareil photo. Libérez votre talent artistique !\nLes dimanches à Paris de 14h30 à 17h00.
URL:https://www.esplanadephoto.org/calendrier-esplanade-photo/atelier-balades-photographiques-a-paris-bpp-2021-11-21/
LOCATION:Paris\, Parvis de l’Hôtel de Ville\, Paris\, 75004\, France
CATEGORIES:Balades Photographiques à Paris 2021-2022
ATTACH;FMTTYPE=image/jpeg:https://www.esplanadephoto.org/wp-content/uploads/2020/08/SIGNES-DU-TEMPS_03.jpg
ORGANIZER;CN="Association ESPLANADE PHOTO":MAILTO:contact@esplanadephoto.org
END:VEVENT
BEGIN:VEVENT
DTSTART;TZID=Europe/Paris:20211123T193000
DTEND;TZID=Europe/Paris:20211123T220000
DTSTAMP:20260422T223123
CREATED:20210424T120725Z
LAST-MODIFIED:20210511T200922Z
UID:9009-1637695800-1637704800@www.esplanadephoto.org
SUMMARY:Atelier Retouche Photo en ligne (RPW) 2021-11-23
DESCRIPTION:Atelier Retouche Photo en ligne (RPW) 2021-11-23.\nDans cet atelier vous apprendrez les techniques de post production consistant à corriger\, optimiser et sublimer vos photographies. Vous allez passer à la pratique avec des exemples concrets à partir de photos proposées et de vos propres photos !\nTravaux pratiques réguliers.\nNous aborderons les logiciels suivants : LIGHTROOM\, PHOTOSHOP\, DXO PHOTOLAB et AFFINITY PHOTO.\nRéunion mensuelle\, de 19h30 à 22h.\nEn Savoir Plus » ICI
URL:https://www.esplanadephoto.org/calendrier-esplanade-photo/atelier-retouche-photo-en-ligne-rpw-2021-11-23/
LOCATION:Atelier interactif en ligne et en direct sur www.esplanadephoto.org
CATEGORIES:Atelier Retouche Photo en ligne (RPW) 2021-2022
ATTACH;FMTTYPE=image/jpeg:https://www.esplanadephoto.org/wp-content/uploads/2020/08/Vue-den-bas-de-la-Defense_03.jpg
ORGANIZER;CN="Association ESPLANADE PHOTO":MAILTO:contact@esplanadephoto.org
END:VEVENT
BEGIN:VEVENT
DTSTART;TZID=Europe/Paris:20211125T193000
DTEND;TZID=Europe/Paris:20211125T220000
DTSTAMP:20260422T223123
CREATED:20210424T100652Z
LAST-MODIFIED:20210424T101246Z
UID:8967-1637868600-1637877600@www.esplanadephoto.org
SUMMARY:Rencontres Photographiques Apéro Expo (RPAEW) 2021-11-25
DESCRIPTION:Rencontres Photographiques Apéro Expo (RPAEW) 2021-11-25.\nLieu : Maison des Associations – Espace Regnault 12\, Square Henri Regnault\, 92400 Courbevoie. De 19h30 à 22h00.\nGalerie Esplanade Photo – RDV consacrée au vernissage de notre exposition mensuelle. En ligne de 20h à 21h00.
URL:https://www.esplanadephoto.org/calendrier-esplanade-photo/rencontres-photographiques-apero-expo-rpaew-2021-11-25/
LOCATION:Maison des Associations – Espace Regnault\, 12\, Square Henri Regnault\, Courbevoie\, 92400\, France
CATEGORIES:Rencontres Photographiques Apéro Expo 2021-2022
ATTACH;FMTTYPE=image/jpeg:https://www.esplanadephoto.org/wp-content/uploads/2020/04/Nature-Morte-Feuillesr_Esplanade-Photo_03.jpg
ORGANIZER;CN="Association ESPLANADE PHOTO":MAILTO:contact@esplanadephoto.org
END:VEVENT
BEGIN:VEVENT
DTSTART;TZID=Europe/Paris:20211125T200000
DTEND;TZID=Europe/Paris:20211125T210000
DTSTAMP:20260422T223123
CREATED:20211213T065843Z
LAST-MODIFIED:20211213T070506Z
UID:10267-1637870400-1637874000@www.esplanadephoto.org
SUMMARY:VERNISSAGE DE L’EXPOSITION promenade photographique en Bretagne du photographe Marc CHAUVIN
DESCRIPTION:VERNISSAGE DE L’EXPOSITION « Promenade photographique en Bretagne » du photographe Marc CHAUVIN.\nVernissage en ligne sur invitation le jeudi 25 novembre de 20h à 21h. Pour vous inscrire\, cliquez ICI.
URL:https://www.esplanadephoto.org/calendrier-esplanade-photo/vernissage-de-lexposition-promenade-photographique-en-bretagne-du-photographe-marc-chauvin/
LOCATION:Galerie Esplanade Photo
CATEGORIES:Galerie Esplanade Photo
ATTACH;FMTTYPE=image/jpeg:https://www.esplanadephoto.org/wp-content/uploads/2021/11/Esplanade-Photo-PROMENADE-PHOTOGRAPHIQUE-EN-BRETAGNE-Marc-CHAUVIN_01_web-scaled.jpg
END:VEVENT
BEGIN:VEVENT
DTSTART;VALUE=DATE:20211126
DTEND;VALUE=DATE:20211217
DTSTAMP:20260422T223123
CREATED:20211213T070644Z
LAST-MODIFIED:20211213T071416Z
UID:10271-1637884800-1639699199@www.esplanadephoto.org
SUMMARY:Exposition Promenade photographique en Bretagne du photographe Marc CHAUVIN
DESCRIPTION:La galerie Esplanade Photo est heureuse de présenter l’exposition « Promenade photographique en Bretagne » du photographe Marc CHAUVIN.\nPour accéder à l’exposition interactive et virtuelle\, cliquez sur « Promenade photographique en Bretagne ».
URL:https://www.esplanadephoto.org/calendrier-esplanade-photo/exposition-promenade-photographique-en-bretagne-du-photographe-marc-chauvin/
LOCATION:Galerie Esplanade Photo
CATEGORIES:Galerie Esplanade Photo
ATTACH;FMTTYPE=image/jpeg:https://www.esplanadephoto.org/wp-content/uploads/2021/11/Esplanade-Photo-PROMENADE-PHOTOGRAPHIQUE-EN-BRETAGNE-Marc-CHAUVIN_01_web-scaled.jpg
END:VEVENT
END:VCALENDAR