BEGIN:VCALENDAR
VERSION:2.0
PRODID:-//Esplanade Photo - ECPv6.15.20//NONSGML v1.0//EN
CALSCALE:GREGORIAN
METHOD:PUBLISH
X-ORIGINAL-URL:https://www.esplanadephoto.org
X-WR-CALDESC:Évènements pour Esplanade Photo
REFRESH-INTERVAL;VALUE=DURATION:PT1H
X-Robots-Tag:noindex
X-PUBLISHED-TTL:PT1H
BEGIN:VTIMEZONE
TZID:Europe/Paris
BEGIN:DAYLIGHT
TZOFFSETFROM:+0100
TZOFFSETTO:+0200
TZNAME:CEST
DTSTART:20200329T010000
END:DAYLIGHT
BEGIN:STANDARD
TZOFFSETFROM:+0200
TZOFFSETTO:+0100
TZNAME:CET
DTSTART:20201025T010000
END:STANDARD
BEGIN:DAYLIGHT
TZOFFSETFROM:+0100
TZOFFSETTO:+0200
TZNAME:CEST
DTSTART:20210328T010000
END:DAYLIGHT
BEGIN:STANDARD
TZOFFSETFROM:+0200
TZOFFSETTO:+0100
TZNAME:CET
DTSTART:20211031T010000
END:STANDARD
BEGIN:DAYLIGHT
TZOFFSETFROM:+0100
TZOFFSETTO:+0200
TZNAME:CEST
DTSTART:20220327T010000
END:DAYLIGHT
BEGIN:STANDARD
TZOFFSETFROM:+0200
TZOFFSETTO:+0100
TZNAME:CET
DTSTART:20221030T010000
END:STANDARD
END:VTIMEZONE
BEGIN:VEVENT
DTSTART;VALUE=DATE:20211001
DTEND;VALUE=DATE:20211022
DTSTAMP:20260422T205527
CREATED:20211018T190001Z
LAST-MODIFIED:20211019T062533Z
UID:10077-1633046400-1634860799@www.esplanadephoto.org
SUMMARY:Exposition "Avec la Lumière" du photographe Gyslain YARHI
DESCRIPTION:La galerie Esplanade Photo est heureuse de présenter l’exposition « Avec la Lumière » du photographe Gyslain YARHI.\nPour accéder à l’exposition interactive et virtuelle\, cliquez sur « Avec la Lumière ».
URL:https://www.esplanadephoto.org/calendrier-esplanade-photo/exposition-avec-la-lumiere-du-photographe-gyslain-yarhi/
LOCATION:Galerie Esplanade Photo
CATEGORIES:Galerie Esplanade Photo
ATTACH;FMTTYPE=image/jpeg:https://www.esplanadephoto.org/wp-content/uploads/2021/09/Avec-la-lumiere-par-Gyslain-YARHI.jpg
END:VEVENT
BEGIN:VEVENT
DTSTART;TZID=Europe/Paris:20211005T200000
DTEND;TZID=Europe/Paris:20211005T220000
DTSTAMP:20260422T205527
CREATED:20210423T193401Z
LAST-MODIFIED:20210423T193618Z
UID:8920-1633464000-1633471200@www.esplanadephoto.org
SUMMARY:Analyse d’Images en ligne (AIW) 2021-10-05
DESCRIPTION:Analyse d’Images en ligne (AIW) 2021-10-05.\nCet atelier interactif en ligne et en direct a pour but de vous expliquer ce qui va bien et ce qui est à améliorer sur les photos de nos trois défis.\nRéunions mensuelles\, les mardis\, de 20h00 à 22h00 de septembre à juin.
URL:https://www.esplanadephoto.org/calendrier-esplanade-photo/analyse-dimages-en-ligne-aiw-2021-10-05/
LOCATION:Atelier interactif en ligne et en direct sur www.esplanadephoto.org
CATEGORIES:Analyse d’Images en ligne 2021-2022
ATTACH;FMTTYPE=image/jpeg:https://www.esplanadephoto.org/wp-content/uploads/2021/04/apres-la-pluie-a-La-Defense-Paris_02.jpg
ORGANIZER;CN="Association ESPLANADE PHOTO":MAILTO:contact@esplanadephoto.org
END:VEVENT
BEGIN:VEVENT
DTSTART;TZID=Europe/Paris:20211007T193000
DTEND;TZID=Europe/Paris:20211007T220000
DTSTAMP:20260422T205527
CREATED:20210423T050507Z
LAST-MODIFIED:20210424T123328Z
UID:8759-1633635000-1633644000@www.esplanadephoto.org
SUMMARY:Atelier Prise de Vue Photo Initiation (PVPI) 2021-10-07
DESCRIPTION:Atelier Prise de Vue Photo Initiation (PVPI) 2021-10-07.\nAteliers  photo en salle pour ceux qui viennent d’acquérir ou qui prévoient d’acquérir un appareil photo et qui veulent comprendre ses réglages pour mettre à profit toutes ses possibilités.\nRéunion mensuelle de 19h30 à 22h.\nLieu : Maison des Associations – Espace Regnault 12\, Square Henri Regnault\, 92400 Courbevoie.
URL:https://www.esplanadephoto.org/calendrier-esplanade-photo/atelier-prise-de-vue-photo-initiation-pvpi-2021-10-07/
LOCATION:Maison des Associations – Espace Regnault\, 12\, Square Henri Regnault\, Courbevoie\, 92400\, France
CATEGORIES:Atelier Prise de Vue Photo initiation 2021-2022
ATTACH;FMTTYPE=image/jpeg:https://www.esplanadephoto.org/wp-content/uploads/2020/08/INSECTES-DE-NOS-JARDINS_09.jpg
ORGANIZER;CN="Association ESPLANADE PHOTO":MAILTO:contact@esplanadephoto.org
END:VEVENT
BEGIN:VEVENT
DTSTART;TZID=Europe/Paris:20211009T090000
DTEND;TZID=Europe/Paris:20211009T113000
DTSTAMP:20260422T205527
CREATED:20210423T061037Z
LAST-MODIFIED:20211002T054517Z
UID:8816-1633770000-1633779000@www.esplanadephoto.org
SUMMARY:Atelier Balades Photographiques à la Défense (BPD) 2021-10-09
DESCRIPTION:Atelier Balades Photographiques à la Défense (BPD) 2021-10-09.\nSorties photos thématiques permettant d’affuter votre regard\, d’échanger sur le terrain avec des exemples concrets sur les techniques\, le fonctionnement de votre appareil photo. Libérez votre talent artistique !\nLes samedis à La Défense de 09h00 à 11h30.
URL:https://www.esplanadephoto.org/calendrier-esplanade-photo/atelier-balades-photographiques-a-la-defense-bpd-2021-10-16/
LOCATION:Esplanade de la Défense\, 7\, Place de la Défense\, Courbevoie\, 92400\, France
CATEGORIES:Balades Photographiques à la Défense 2021-2022
ATTACH;FMTTYPE=image/jpeg:https://www.esplanadephoto.org/wp-content/uploads/2020/08/Vue-sur-la-Defense-en-infrarouge_02.jpg
ORGANIZER;CN="Association ESPLANADE PHOTO":MAILTO:contact@esplanadephoto.org
END:VEVENT
BEGIN:VEVENT
DTSTART;TZID=Europe/Paris:20211011T193000
DTEND;TZID=Europe/Paris:20211011T220000
DTSTAMP:20260422T205527
CREATED:20210927T095846Z
LAST-MODIFIED:20210927T124649Z
UID:9995-1633980600-1633989600@www.esplanadephoto.org
SUMMARY:Atelier créatif photo de nuit 2021-10-11
DESCRIPTION:Cet atelier photo vous propose d’apprendre la Photo de Nuit\, en profitant du quartier d’affaires de Paris-La Défense comme terrain de jeu.\nVous apprendrez les techniques et astuces pour réussir vos photos de nuit.\nAnalyse de vos photos et des conseils pour progresser.\nMatériel nécessaire :\nUn appareil photo reflex\, hybride ou un bridge.\nUn pied photo\, possibilité de prêt.\nUne télécommande\, facultative. \nInformations et inscription ICI.
URL:https://www.esplanadephoto.org/calendrier-esplanade-photo/atelier-creatif-photo-de-nuit-2021-10-11/
LOCATION:Esplanade de la Défense\, 7\, Place de la Défense\, Courbevoie\, 92400\, France
CATEGORIES:ATELIERS PONCTUELS 2021
ATTACH;FMTTYPE=image/jpeg:https://www.esplanadephoto.org/wp-content/uploads/2021/09/AU-DELA-DE-VOUS-APPRENDRE-LA-PHOTOGRAPHIE_01.jpg
END:VEVENT
BEGIN:VEVENT
DTSTART;TZID=Europe/Paris:20211012T200000
DTEND;TZID=Europe/Paris:20211012T220000
DTSTAMP:20260422T205527
CREATED:20210512T183707Z
LAST-MODIFIED:20210512T183813Z
UID:9169-1634068800-1634076000@www.esplanadephoto.org
SUMMARY:Atelier Regard d'Auteur en ligne (RAW) 2021-10-12
DESCRIPTION:Atelier Regard d’Auteur en ligne (RAW) 2021-10-12.\nVous avez le sentiment de ne plus avancer et envie d’aller plus loin dans votre pratique photographique ? L’atelier « Regard d’Auteur » vous donnera un certain nombre de conseils pour aiguiser votre pratique\, affûter votre œil et trouver votre propre style.\nRéunions mensuelles\, les mardis\, de 19h30 à 22h00 de septembre à juin.
URL:https://www.esplanadephoto.org/calendrier-esplanade-photo/atelier-regard-dauteur-en-ligne-raw-2021-10-12/
LOCATION:Atelier interactif en ligne et en direct sur www.esplanadephoto.org
CATEGORIES:Atelier Regard d'Auteur en ligne
ATTACH;FMTTYPE=image/jpeg:https://www.esplanadephoto.org/wp-content/uploads/2021/04/Esplanade-photo-la-Defense-sous-la-neige_09.jpg
ORGANIZER;CN="Association ESPLANADE PHOTO":MAILTO:contact@esplanadephoto.org
END:VEVENT
BEGIN:VEVENT
DTSTART;TZID=Europe/Paris:20211014T193000
DTEND;TZID=Europe/Paris:20211014T220000
DTSTAMP:20260422T205527
CREATED:20210423T054350Z
LAST-MODIFIED:20210424T125056Z
UID:8792-1634239800-1634248800@www.esplanadephoto.org
SUMMARY:Atelier Prise de Vue Photo Avancé (PVPA) 2021-10-14
DESCRIPTION:Atelier Prise de Vue Photo Avancé (PVPA) 2021-10-14.\nVous avez l’impression de stagner ? Cet atelier technique et créatif en salle vous apportera des clés pour progresser en photographie et stimuler votre créativité.\nRéunion mensuelle de 19h30 à 22h.\nLieu : Maison des Associations – Espace Regnault 12\, Square Henri Regnault\, 92400 Courbevoie.
URL:https://www.esplanadephoto.org/calendrier-esplanade-photo/atelier-prise-de-vue-photo-avance-pvpa-2021-10-14/
LOCATION:Maison des Associations – Espace Regnault\, 12\, Square Henri Regnault\, Courbevoie\, 92400\, France
CATEGORIES:Atelier prise de vue photo avancé 2021-2022
ATTACH;FMTTYPE=image/jpeg:https://www.esplanadephoto.org/wp-content/uploads/2020/08/FLEURS-DE-NOS-JARDINS_02.jpg
ORGANIZER;CN="Association ESPLANADE PHOTO":MAILTO:contact@esplanadephoto.org
END:VEVENT
BEGIN:VEVENT
DTSTART;TZID=Europe/Paris:20211016T153000
DTEND;TZID=Europe/Paris:20211016T163000
DTSTAMP:20260422T205527
CREATED:20210423T191419Z
LAST-MODIFIED:20211002T054649Z
UID:8899-1634398200-1634401800@www.esplanadephoto.org
SUMMARY:Visites Photographiques à Paris (VPP) 2021-10-16
DESCRIPTION:Visites Photographiques à Paris (VPP) 2021-10-16.\nNous nous retrouvons pour une visite d’exposition\, moyen essentiel d’acquérir ou d’approfondir sa culture photographique.\nNous annoncerons le nom de l’exposition et le lieu sur le forum une semaine à l’avance.\nVisites mensuelles les samedis à Paris de 15h30 à 16h30.
URL:https://www.esplanadephoto.org/calendrier-esplanade-photo/visites-photographiques-a-paris-vpp-2021-10-16/
LOCATION:Paris\, Parvis de l’Hôtel de Ville\, Paris\, 75004\, France
CATEGORIES:Visites Photographiques 2021-2022
ATTACH;FMTTYPE=image/jpeg:https://www.esplanadephoto.org/wp-content/uploads/2021/04/Silence-ca-pousse-a-la-Defense_02.jpg
ORGANIZER;CN="Association ESPLANADE PHOTO":MAILTO:contact@esplanadephoto.org
END:VEVENT
BEGIN:VEVENT
DTSTART;TZID=Europe/Paris:20211017T143000
DTEND;TZID=Europe/Paris:20211017T170000
DTSTAMP:20260422T205527
CREATED:20210423T063904Z
LAST-MODIFIED:20210423T064003Z
UID:8840-1634481000-1634490000@www.esplanadephoto.org
SUMMARY:Atelier Balades Photographiques à Paris (BPP) 2021-10-17
DESCRIPTION:Atelier Balades Photographiques à Paris (BPP) 2021-10-17.\nSorties photos thématiques permettant d’affuter votre regard\, d’échanger sur le terrain avec des exemples concrets sur les techniques\, le fonctionnement de votre appareil photo. Libérez votre talent artistique !\nLes dimanches à Paris de 14h30 à 17h00.
URL:https://www.esplanadephoto.org/calendrier-esplanade-photo/atelier-balades-photographiques-a-paris-bpp-2021-10-17/
LOCATION:Paris\, Parvis de l’Hôtel de Ville\, Paris\, 75004\, France
CATEGORIES:Balades Photographiques à Paris 2021-2022
ATTACH;FMTTYPE=image/jpeg:https://www.esplanadephoto.org/wp-content/uploads/2020/08/SIGNES-DU-TEMPS_02.jpg
ORGANIZER;CN="Association ESPLANADE PHOTO":MAILTO:contact@esplanadephoto.org
END:VEVENT
BEGIN:VEVENT
DTSTART;TZID=Europe/Paris:20211018T193000
DTEND;TZID=Europe/Paris:20211018T220000
DTSTAMP:20260422T205527
CREATED:20210927T102339Z
LAST-MODIFIED:20210927T124713Z
UID:10000-1634585400-1634594400@www.esplanadephoto.org
SUMMARY:Atelier bien photographier au flash 2021-10-18
DESCRIPTION:Vous apprendrez comment bien utiliser votre flash incorporé ou un flash cobra comme source principale ou secondaire.\nComprendre l’impact d’un éclairage sur une scène photographiée.\nLes différents réglages du flash et leurs utilisations.\nExercices pratiques\, analyses et conseils pour progresser. \nInformations et inscription ICI.
URL:https://www.esplanadephoto.org/calendrier-esplanade-photo/atelier-bien-photographier-au-flash-2021-10-18/
LOCATION:Esplanade de la Défense\, 7\, Place de la Défense\, Courbevoie\, 92400\, France
CATEGORIES:ATELIERS PONCTUELS 2021
ATTACH;FMTTYPE=image/jpeg:https://www.esplanadephoto.org/wp-content/uploads/2021/09/AU-DELA-DE-VOUS-APPRENDRE-LA-PHOTOGRAPHIE_01.jpg
END:VEVENT
BEGIN:VEVENT
DTSTART;TZID=Europe/Paris:20211019T193000
DTEND;TZID=Europe/Paris:20211019T220000
DTSTAMP:20260422T205527
CREATED:20210424T120605Z
LAST-MODIFIED:20210511T200839Z
UID:9007-1634671800-1634680800@www.esplanadephoto.org
SUMMARY:Atelier Retouche Photo en ligne (RPW) 2021-10-19
DESCRIPTION:Atelier Retouche Photo en ligne (RPW) 2021-10-19.\nDans cet atelier vous apprendrez les techniques de post production consistant à corriger\, optimiser et sublimer vos photographies. Vous allez passer à la pratique avec des exemples concrets à partir de photos proposées et de vos propres photos !\nTravaux pratiques réguliers.\nNous aborderons les logiciels suivants : LIGHTROOM\, PHOTOSHOP\, DXO PHOTOLAB et AFFINITY PHOTO.\nRéunion mensuelle\, de 19h30 à 22h.\nEn Savoir Plus » ICI
URL:https://www.esplanadephoto.org/calendrier-esplanade-photo/atelier-retouche-photo-en-ligne-rpw-2021-10-19/
LOCATION:Atelier interactif en ligne et en direct sur www.esplanadephoto.org
CATEGORIES:Atelier Retouche Photo en ligne (RPW) 2021-2022
ATTACH;FMTTYPE=image/jpeg:https://www.esplanadephoto.org/wp-content/uploads/2020/08/Vue-den-bas-de-la-Defense_02.jpg
ORGANIZER;CN="Association ESPLANADE PHOTO":MAILTO:contact@esplanadephoto.org
END:VEVENT
BEGIN:VEVENT
DTSTART;TZID=Europe/Paris:20211021T193000
DTEND;TZID=Europe/Paris:20211021T220000
DTSTAMP:20260422T205527
CREATED:20210424T100432Z
LAST-MODIFIED:20210424T101306Z
UID:8964-1634844600-1634853600@www.esplanadephoto.org
SUMMARY:Rencontres Photographiques Apéro Expo (RPAEW) 2021-10-21
DESCRIPTION:Rencontres Photographiques Apéro Expo (RPAEW) 2021-10-21.\nLieu : Maison des Associations – Espace Regnault 12\, Square Henri Regnault\, 92400 Courbevoie. De 19h30 à 22h00.\nGalerie Esplanade Photo – RDV consacrée au vernissage de notre exposition mensuelle. En ligne de 20h à 21h00.
URL:https://www.esplanadephoto.org/calendrier-esplanade-photo/rencontres-photographiques-apero-expo-rpaew-2021-10-21/
LOCATION:Maison des Associations – Espace Regnault\, 12\, Square Henri Regnault\, Courbevoie\, 92400\, France
CATEGORIES:Rencontres Photographiques Apéro Expo 2021-2022
ATTACH;FMTTYPE=image/jpeg:https://www.esplanadephoto.org/wp-content/uploads/2020/04/Nature-Morte-Feuillesr_Esplanade-Photo_02.jpg
ORGANIZER;CN="Association ESPLANADE PHOTO":MAILTO:contact@esplanadephoto.org
END:VEVENT
BEGIN:VEVENT
DTSTART;TZID=Europe/Paris:20211021T200000
DTEND;TZID=Europe/Paris:20211021T210000
DTSTAMP:20260422T205527
CREATED:20211018T191916Z
LAST-MODIFIED:20211018T192654Z
UID:10081-1634846400-1634850000@www.esplanadephoto.org
SUMMARY:VERNISSAGE DE L’EXPOSITION Jardim Gramacho la communauté des oubliés de la photographe Laurence GUENOUN
DESCRIPTION:VERNISSAGE DE L’EXPOSITION « Jardim Gramacho\, la communauté des oubliés » de la photographe Laurence GUENOUN.\nVernissage en ligne sur invitation le jeudi 21 octobre de 20h à 21h. Pour vous inscrire\, cliquez ICI.
URL:https://www.esplanadephoto.org/calendrier-esplanade-photo/vernissage-de-lexposition-jardim-gramacho-la-communaute-des-oublies-de-la-photographe-laurence-guenoun/
LOCATION:Galerie Esplanade Photo
CATEGORIES:Galerie Esplanade Photo
ATTACH;FMTTYPE=image/jpeg:https://www.esplanadephoto.org/wp-content/uploads/2021/10/Esplanade-Photo-Jardim-Gramacho-Laurence-Guenoun_01_web-scaled.jpg
END:VEVENT
BEGIN:VEVENT
DTSTART;VALUE=DATE:20211022
DTEND;VALUE=DATE:20211126
DTSTAMP:20260422T205527
CREATED:20211018T192955Z
LAST-MODIFIED:20211019T062447Z
UID:10085-1634860800-1637884799@www.esplanadephoto.org
SUMMARY:Exposition "Jardim Gramacho la communauté des oubliés" de la photographe Laurence GUENOUN
DESCRIPTION:La galerie Esplanade Photo est heureuse de présenter l’exposition « Jardim Gramacho\, la communauté des oubliés » de la photographe Laurence GUENOUN.\nPour accéder à l’exposition interactive et virtuelle\, cliquez sur « Jardim Gramacho\, la communauté des oubliés ».
URL:https://www.esplanadephoto.org/calendrier-esplanade-photo/exposition-jardim-gramacho-la-communaute-des-oublies-de-la-photographe-laurence-guenoun/
LOCATION:Galerie Esplanade Photo
CATEGORIES:Galerie Esplanade Photo
ATTACH;FMTTYPE=image/jpeg:https://www.esplanadephoto.org/wp-content/uploads/2021/10/Esplanade-Photo-Jardim-Gramacho-Laurence-Guenoun_01_web-scaled.jpg
END:VEVENT
BEGIN:VEVENT
DTSTART;TZID=Europe/Paris:20211025T193000
DTEND;TZID=Europe/Paris:20211025T220000
DTSTAMP:20260422T205527
CREATED:20210927T103125Z
LAST-MODIFIED:20210927T124756Z
UID:10004-1635190200-1635199200@www.esplanadephoto.org
SUMMARY:Atelier créatif pose longue 2021-10-25
DESCRIPTION:Laissez libre cours à votre créativité photo grâce à la pose longue de jour comme de nuit. \nL’objectif de cet atelier est de vous faire acquérir les connaissances pour maîtriser les techniques de la pose longue. \nInformations et inscription ICI.
URL:https://www.esplanadephoto.org/calendrier-esplanade-photo/atelier-creatif-pose-longue-2021-10-25/
LOCATION:Esplanade de la Défense\, 7\, Place de la Défense\, Courbevoie\, 92400\, France
CATEGORIES:ATELIERS PONCTUELS 2021
ATTACH;FMTTYPE=image/jpeg:https://www.esplanadephoto.org/wp-content/uploads/2021/09/AU-DELA-DE-VOUS-APPRENDRE-LA-PHOTOGRAPHIE_01.jpg
END:VEVENT
BEGIN:VEVENT
DTSTART;TZID=Europe/Paris:20211028T193000
DTEND;TZID=Europe/Paris:20211028T220000
DTSTAMP:20260422T205527
CREATED:20210927T104125Z
LAST-MODIFIED:20210927T124841Z
UID:10007-1635449400-1635458400@www.esplanadephoto.org
SUMMARY:Portrait en studio avec deux sources d’éclairage 2021-10-28
DESCRIPTION:Portrait en studio avec deux sources d’éclairage  – Nous aborderons quatre schémas d’éclairage avec deux sources d’éclairage.\nVous apprendrez à :\nFaire la différence entre ces quatre modes d’éclairage et bien placer la source de lumière principale.\nIdentifier quel matériel doit être utilisé en fonction du type de rendu souhaité\, lumière dure ou lumière douce.\nUtiliser des façonneurs de lumière (boîte à lumière\, parapluie\, bol beauté\, snoot et nid d’abeilles). \nInformations et inscription ICI.
URL:https://www.esplanadephoto.org/calendrier-esplanade-photo/portrait-en-studio-avec-deux-sources-declairage-2021-10-28/
LOCATION:Maison des Associations – Espace Regnault\, 12\, Square Henri Regnault\, Courbevoie\, 92400\, France
CATEGORIES:ATELIERS PONCTUELS 2021
ATTACH;FMTTYPE=image/jpeg:https://www.esplanadephoto.org/wp-content/uploads/2021/09/AU-DELA-DE-VOUS-APPRENDRE-LA-PHOTOGRAPHIE_01.jpg
END:VEVENT
END:VCALENDAR