BEGIN:VCALENDAR
VERSION:2.0
PRODID:-//Esplanade Photo - ECPv6.15.20//NONSGML v1.0//EN
CALSCALE:GREGORIAN
METHOD:PUBLISH
X-WR-CALNAME:Esplanade Photo
X-ORIGINAL-URL:https://www.esplanadephoto.org
X-WR-CALDESC:Évènements pour Esplanade Photo
REFRESH-INTERVAL;VALUE=DURATION:PT1H
X-Robots-Tag:noindex
X-PUBLISHED-TTL:PT1H
BEGIN:VTIMEZONE
TZID:Europe/Paris
BEGIN:DAYLIGHT
TZOFFSETFROM:+0100
TZOFFSETTO:+0200
TZNAME:CEST
DTSTART:20200329T010000
END:DAYLIGHT
BEGIN:STANDARD
TZOFFSETFROM:+0200
TZOFFSETTO:+0100
TZNAME:CET
DTSTART:20201025T010000
END:STANDARD
BEGIN:DAYLIGHT
TZOFFSETFROM:+0100
TZOFFSETTO:+0200
TZNAME:CEST
DTSTART:20210328T010000
END:DAYLIGHT
BEGIN:STANDARD
TZOFFSETFROM:+0200
TZOFFSETTO:+0100
TZNAME:CET
DTSTART:20211031T010000
END:STANDARD
BEGIN:DAYLIGHT
TZOFFSETFROM:+0100
TZOFFSETTO:+0200
TZNAME:CEST
DTSTART:20220327T010000
END:DAYLIGHT
BEGIN:STANDARD
TZOFFSETFROM:+0200
TZOFFSETTO:+0100
TZNAME:CET
DTSTART:20221030T010000
END:STANDARD
END:VTIMEZONE
BEGIN:VEVENT
DTSTART;TZID=Europe/Paris:20210905T090000
DTEND;TZID=Europe/Paris:20210905T180000
DTSTAMP:20260422T223134
CREATED:20210609T204652Z
LAST-MODIFIED:20210826T142810Z
UID:9492-1630832400-1630864800@www.esplanadephoto.org
SUMMARY:Forum des Associations de Courbevoie VITAVILLE 2021
DESCRIPTION:Forum des Associations de Courbevoie Vitaville dimanche 5 septembre 2021\, STAND N° 137.\nVous pourrez à cette occasion découvrir les ateliers proposés par l’association Esplanade Photo et poser toutes vos questions.\nVenez nous rencontrer !
URL:https://www.esplanadephoto.org/calendrier-esplanade-photo/forum-des-associations-de-courbevoie-vitaville-2021/
LOCATION:Espace sportif Jean-Pierre Rives\, 89-91 Boulevard de Verdun\, Courbevoie\, 92400
CATEGORIES:Forum des Associations de Courbevoie Vitaville
ATTACH;FMTTYPE=image/jpeg:https://www.esplanadephoto.org/wp-content/uploads/2021/08/csm_Vitaville_2021_a680af24b7-1-scaled.jpg
END:VEVENT
BEGIN:VEVENT
DTSTART;TZID=Europe/Paris:20210907T200000
DTEND;TZID=Europe/Paris:20210907T220000
DTSTAMP:20260422T223134
CREATED:20210623T062145Z
LAST-MODIFIED:20220128T184602Z
UID:9592-1631044800-1631052000@www.esplanadephoto.org
SUMMARY:Atelier de bienvenue et de prise en main de nos outils collaboratifs
DESCRIPTION:Atelier de bienvenue et de prise en main de nos outils collaboratifs. \nEn ligne et en direct de 20h à 22h. \n 
URL:https://www.esplanadephoto.org/calendrier-esplanade-photo/atelier-de-bienvenue-et-de-prise-en-main-de-nos-outils-collaboratifs/
LOCATION:Atelier interactif en ligne et en direct sur www.esplanadephoto.org
CATEGORIES:Rencontres Photographiques en Ligne 2021-2022
ATTACH;FMTTYPE=image/jpeg:https://www.esplanadephoto.org/wp-content/uploads/2020/08/FLEURS-DE-NOS-JARDINS_03.jpg
END:VEVENT
BEGIN:VEVENT
DTSTART;TZID=Europe/Paris:20210909T200000
DTEND;TZID=Europe/Paris:20210909T220000
DTSTAMP:20260422T223134
CREATED:20210423T145605Z
LAST-MODIFIED:20210623T060148Z
UID:8861-1631217600-1631224800@www.esplanadephoto.org
SUMMARY:Analyse d’Images en ligne (AIW) 2021-09-09
DESCRIPTION:Analyse d’Images en ligne (AIW) 2021-09-09.\nCet atelier interactif en ligne et en direct a pour but de vous expliquer ce qui va bien et ce qui est à améliorer sur les photos de nos trois défis.\nRéunions mensuelles\, les mardis\, de 20h00 à 22h00 de septembre à juin.
URL:https://www.esplanadephoto.org/calendrier-esplanade-photo/analyse-dimages-en-ligne-aiw-2021-09-09/
LOCATION:Atelier interactif en ligne et en direct sur www.esplanadephoto.org
CATEGORIES:Analyse d’Images en ligne 2021-2022
ATTACH;FMTTYPE=image/jpeg:https://www.esplanadephoto.org/wp-content/uploads/2021/04/apres-la-pluie-a-La-Defense-Paris_01.jpg
ORGANIZER;CN="Association ESPLANADE PHOTO":MAILTO:contact@esplanadephoto.org
END:VEVENT
BEGIN:VEVENT
DTSTART;TZID=Europe/Paris:20210914T200000
DTEND;TZID=Europe/Paris:20210914T220000
DTSTAMP:20260422T223134
CREATED:20210512T182837Z
LAST-MODIFIED:20210512T183559Z
UID:9166-1631649600-1631656800@www.esplanadephoto.org
SUMMARY:Atelier Regard d'Auteur en ligne (RAW) 2021-09-14
DESCRIPTION:Atelier Regard d’Auteur en ligne (RAW) 2021-09-14.\nVous avez le sentiment de ne plus avancer et envie d’aller plus loin dans votre pratique photographique ? L’atelier « Regard d’Auteur » vous donnera un certain nombre de conseils pour aiguiser votre pratique\, affûter votre œil et trouver votre propre style.\nRéunions mensuelles\, les mardis\, de 19h30 à 22h00 de septembre à juin.
URL:https://www.esplanadephoto.org/calendrier-esplanade-photo/atelier-regard-dauteur-en-ligne-raw-2021-09-14/
LOCATION:Atelier interactif en ligne et en direct sur www.esplanadephoto.org
CATEGORIES:Atelier Regard d'Auteur en ligne
ATTACH;FMTTYPE=image/jpeg:https://www.esplanadephoto.org/wp-content/uploads/2021/04/Esplanade-photo-la-Defense-sous-la-neige_10.jpg
ORGANIZER;CN="Association ESPLANADE PHOTO":MAILTO:contact@esplanadephoto.org
END:VEVENT
BEGIN:VEVENT
DTSTART;TZID=Europe/Paris:20210916T193000
DTEND;TZID=Europe/Paris:20210916T220000
DTSTAMP:20260422T223134
CREATED:20210423T044126Z
LAST-MODIFIED:20210424T123312Z
UID:8752-1631820600-1631829600@www.esplanadephoto.org
SUMMARY:Atelier Prise de Vue Photo Initiation (PVPI) 2021-09-16
DESCRIPTION:Atelier Prise de Vue Photo Initiation (PVPI) 2021-09-16.\nAteliers  photo en salle pour ceux qui viennent d’acquérir ou qui prévoient d’acquérir un appareil photo et qui veulent comprendre ses réglages pour mettre à profit toutes ses possibilités.\nRéunion mensuelle de 19h30 à 22h.\nLieu : Maison des Associations – Espace Regnault 12\, Square Henri Regnault\, 92400 Courbevoie.
URL:https://www.esplanadephoto.org/calendrier-esplanade-photo/atelier-prise-de-vue-photo-initiation-pvpi-2021-09-16/
LOCATION:Maison des Associations – Espace Regnault\, 12\, Square Henri Regnault\, Courbevoie\, 92400\, France
CATEGORIES:Atelier Prise de Vue Photo initiation 2021-2022
ATTACH;FMTTYPE=image/jpeg:https://www.esplanadephoto.org/wp-content/uploads/2020/08/INSECTES-DE-NOS-JARDINS_10.jpg
ORGANIZER;CN="Association ESPLANADE PHOTO":MAILTO:contact@esplanadephoto.org
END:VEVENT
BEGIN:VEVENT
DTSTART;TZID=Europe/Paris:20210918T140000
DTEND;TZID=Europe/Paris:20210918T180000
DTSTAMP:20260422T223134
CREATED:20210910T111747Z
LAST-MODIFIED:20210910T112157Z
UID:9897-1631973600-1631988000@www.esplanadephoto.org
SUMMARY:Journées Européennes du Patrimoine
DESCRIPTION:Journées Européennes du Patrimoine. \n« Prenez la pose et repartez avec votre photographie ! » \nStudio photo avec impression par Esplanade Photo. \nDans les jardins du CHÂTEAU D’ASNIÈRES\, 89 rue du Château\, 92600 Asnières-sur-Seine \nSamedi 18 septembre de 14h à 18h.
URL:https://www.esplanadephoto.org/calendrier-esplanade-photo/journees-europeennes-du-patrimoine-chateau-dasnieres/
LOCATION:CHÂTEAU D’ASNIÈRES\, 89\, rue du Château\, Asnières-sur-Seine\, 92600\, France
ATTACH;FMTTYPE=image/jpeg:https://www.esplanadephoto.org/wp-content/uploads/2021/09/Journees-Europeennes-du-Patrimoine-2021.jpg
END:VEVENT
BEGIN:VEVENT
DTSTART;TZID=Europe/Paris:20210919T100000
DTEND;TZID=Europe/Paris:20210919T160000
DTSTAMP:20260422T223134
CREATED:20210609T205710Z
LAST-MODIFIED:20210908T091814Z
UID:9495-1632045600-1632067200@www.esplanadephoto.org
SUMMARY:Quais Libres Édition 2021
DESCRIPTION:Quais Libres édition 2021 \nVenez nous rencontrer sur les quais de Courbevoie !\nDimanche 19 septembre de 9h00 à 16h00.\nAtelier Photogramme au Cyanotype\, activité familiale dès 7 ans.\nVous pourrez à cette occasion découvrir les ateliers proposés par l’association Esplanade Photo et poser toutes vos questions. \nPlus d’informations : ICI
URL:https://www.esplanadephoto.org/calendrier-esplanade-photo/quais-libres-edition-2021/
LOCATION:QUAIS LIBRES\, quai Maréchal Joffre\, Courbevoie\, 92400\, France
CATEGORIES:QUAIS LIBRES
ATTACH;FMTTYPE=image/jpeg:https://www.esplanadephoto.org/wp-content/uploads/2021/09/Affiche-QuaisLibres2021.jpg
ORGANIZER;CN="Association ESPLANADE PHOTO":MAILTO:contact@esplanadephoto.org
END:VEVENT
BEGIN:VEVENT
DTSTART;TZID=Europe/Paris:20210921T193000
DTEND;TZID=Europe/Paris:20210921T220000
DTSTAMP:20260422T223134
CREATED:20210423T200048Z
LAST-MODIFIED:20210511T171110Z
UID:8945-1632252600-1632261600@www.esplanadephoto.org
SUMMARY:Atelier Retouche Photo en ligne (RPW) 2021-09-21
DESCRIPTION:Atelier Retouche Photo en ligne (RPW) 2021-09-21.\nDans cet atelier vous apprendrez les techniques de post production consistant à corriger\, optimiser et sublimer vos photographies. Vous allez passer à la pratique avec des exemples concrets à partir de photos proposées et de vos propres photos !\nTravaux pratiques réguliers.\nNous aborderons les logiciels suivants : LIGHTROOM\, PHOTOSHOP\, DXO PHOTOLAB et AFFINITY PHOTO.\nRéunion mensuelle\, de 19h30 à 22h.\nEn Savoir Plus » ICI
URL:https://www.esplanadephoto.org/calendrier-esplanade-photo/atelier-retouche-photo-en-ligne-rpaw-2021-09-21/
LOCATION:Atelier interactif en ligne et en direct sur www.esplanadephoto.org
CATEGORIES:Atelier Retouche Photo en ligne (RPW) 2021-2022
ATTACH;FMTTYPE=image/jpeg:https://www.esplanadephoto.org/wp-content/uploads/2020/08/Vue-den-bas-de-la-Defense_01.jpg
ORGANIZER;CN="Association ESPLANADE PHOTO":MAILTO:contact@esplanadephoto.org
END:VEVENT
BEGIN:VEVENT
DTSTART;TZID=Europe/Paris:20210923T193000
DTEND;TZID=Europe/Paris:20210923T220000
DTSTAMP:20260422T223134
CREATED:20210423T052432Z
LAST-MODIFIED:20210424T125039Z
UID:8785-1632425400-1632434400@www.esplanadephoto.org
SUMMARY:Atelier Prise de Vue Photo Avancé (PVPA) 2021-09-23
DESCRIPTION:Atelier Prise de Vue Photo Avancé (PVPA) 2021-09-23.\nVous avez l’impression de stagner ? Cet atelier technique et créatif en salle vous apportera des clés pour progresser en photographie et stimuler votre créativité.\nRéunion mensuelle de 19h30 à 22h.\nLieu : Maison des Associations – Espace Regnault 12\, Square Henri Regnault\, 92400 Courbevoie.
URL:https://www.esplanadephoto.org/calendrier-esplanade-photo/atelier-prise-de-vue-photo-avance-pvpa-2021-09-23/
LOCATION:Maison des Associations – Espace Regnault\, 12\, Square Henri Regnault\, Courbevoie\, 92400\, France
CATEGORIES:Atelier prise de vue photo avancé 2021-2022
ATTACH;FMTTYPE=image/jpeg:https://www.esplanadephoto.org/wp-content/uploads/2020/08/FLEURS-DE-NOS-JARDINS_01.jpg
ORGANIZER;CN="Association ESPLANADE PHOTO":MAILTO:contact@esplanadephoto.org
END:VEVENT
BEGIN:VEVENT
DTSTART;TZID=Europe/Paris:20210925T090000
DTEND;TZID=Europe/Paris:20210925T113000
DTSTAMP:20260422T223134
CREATED:20210423T060059Z
LAST-MODIFIED:20210423T061908Z
UID:8813-1632560400-1632569400@www.esplanadephoto.org
SUMMARY:Atelier Balades Photographiques à la Défense (BPD) 2021-09-25
DESCRIPTION:Atelier Balades Photographiques à la Défense (BPD) 2021-09-25.\nSorties photos thématiques permettant d’affuter votre regard\, d’échanger sur le terrain avec des exemples concrets sur les techniques\, le fonctionnement de votre appareil photo. Libérez votre talent artistique !\nLes samedis à La Défense de 09h00 à 11h30.
URL:https://www.esplanadephoto.org/calendrier-esplanade-photo/atelier-balades-photographiques-a-la-defense-bpd-2021-09-25/
LOCATION:Esplanade de la Défense\, 7\, Place de la Défense\, Courbevoie\, 92400\, France
CATEGORIES:Balades Photographiques à la Défense 2021-2022
ATTACH;FMTTYPE=image/jpeg:https://www.esplanadephoto.org/wp-content/uploads/2020/08/Vue-sur-la-Defense-en-infrarouge_10.jpg
ORGANIZER;CN="Association ESPLANADE PHOTO":MAILTO:contact@esplanadephoto.org
END:VEVENT
BEGIN:VEVENT
DTSTART;TZID=Europe/Paris:20210925T113000
DTEND;TZID=Europe/Paris:20210925T123000
DTSTAMP:20260422T223134
CREATED:20210609T193104Z
LAST-MODIFIED:20210910T110120Z
UID:9468-1632569400-1632573000@www.esplanadephoto.org
SUMMARY:SORTIE PHOTO - URBAN WEEK - PARIS LA DÉFENSE 2021
DESCRIPTION:Sortie Photo – Urban Week – Paris La Défense 2021 \nL’Association Esplanade Photo organise une sortie photo sur le thème «GRAFF» ouverte à l’ensemble de ses membres le samedi 18 septembre au URBAN WEEK à Paris la Défense.
URL:https://www.esplanadephoto.org/calendrier-esplanade-photo/sortie-photo-urban-week-paris-la-defense-2021/
LOCATION:Esplanade de la Défense\, 7\, Place de la Défense\, Courbevoie\, 92400\, France
ORGANIZER;CN="Association ESPLANADE PHOTO":MAILTO:contact@esplanadephoto.org
END:VEVENT
BEGIN:VEVENT
DTSTART;TZID=Europe/Paris:20210925T143000
DTEND;TZID=Europe/Paris:20210925T160000
DTSTAMP:20260422T223134
CREATED:20210423T144520Z
LAST-MODIFIED:20210423T191806Z
UID:8858-1632580200-1632585600@www.esplanadephoto.org
SUMMARY:Visites Photographiques à Paris (VPP) 2021-09-25
DESCRIPTION:Visites Photographiques à Paris (VPP) 2021-09-25.\nNous nous retrouvons pour une visite d’exposition\, moyen essentiel d’acquérir ou d’approfondir sa culture photographique.\nNous annoncerons le nom de l’exposition et le lieu sur le forum une semaine à l’avance.\nVisites mensuelles les samedis à Paris de 14h30 à 16h00.
URL:https://www.esplanadephoto.org/calendrier-esplanade-photo/visites-photographiques-a-paris-vpp-2021-09-25/
LOCATION:Paris\, Parvis de l’Hôtel de Ville\, Paris\, 75004\, France
CATEGORIES:Visites Photographiques 2021-2022
ATTACH;FMTTYPE=image/jpeg:https://www.esplanadephoto.org/wp-content/uploads/2021/04/Silence-ca-pousse-a-la-Defense_01.jpg
ORGANIZER;CN="Association ESPLANADE PHOTO":MAILTO:contact@esplanadephoto.org
END:VEVENT
BEGIN:VEVENT
DTSTART;TZID=Europe/Paris:20210926T143000
DTEND;TZID=Europe/Paris:20210926T170000
DTSTAMP:20260422T223135
CREATED:20210423T063148Z
LAST-MODIFIED:20210423T063815Z
UID:8837-1632666600-1632675600@www.esplanadephoto.org
SUMMARY:Atelier Balades Photographiques à Paris (BPP) 2021-09-26
DESCRIPTION:Atelier Balades Photographiques à Paris (BPP) 2021-09-26.\nSorties photos thématiques permettant d’affuter votre regard\, d’échanger sur le terrain avec des exemples concrets sur les techniques\, le fonctionnement de votre appareil photo. Libérez votre talent artistique !\nLes dimanches à Paris de 14h30 à 17h00.
URL:https://www.esplanadephoto.org/calendrier-esplanade-photo/atelier-balades-photographiques-a-paris-bpp-2021-09-26/
LOCATION:Paris\, Parvis de l’Hôtel de Ville\, Paris\, 75004\, France
CATEGORIES:Balades Photographiques à Paris 2021-2022
ATTACH;FMTTYPE=image/jpeg:https://www.esplanadephoto.org/wp-content/uploads/2020/08/SIGNES-DU-TEMPS_01.jpg
ORGANIZER;CN="Association ESPLANADE PHOTO":MAILTO:contact@esplanadephoto.org
END:VEVENT
BEGIN:VEVENT
DTSTART;TZID=Europe/Paris:20210927T193000
DTEND;TZID=Europe/Paris:20210927T220000
DTSTAMP:20260422T223135
CREATED:20210927T095049Z
LAST-MODIFIED:20210927T124622Z
UID:9991-1632771000-1632780000@www.esplanadephoto.org
SUMMARY:Atelier photo de rue 2021-09-27
DESCRIPTION:Cet atelier vous propose de pratiquer la photo en milieu urbain et de se confronter à ses contraintes et spécificités. Vous apprendrez comment passer inaperçu\, shooter rapidement\, choisir des motifs qui donneront de l’intérêt à vos photos … Astuces et conseils pour traquer les petits dérapages du quotidien. \nInformations et inscription ICI.
URL:https://www.esplanadephoto.org/calendrier-esplanade-photo/atelier-photo-de-rue-2021-09-27/
LOCATION:Esplanade de la Défense\, 7\, Place de la Défense\, Courbevoie\, 92400\, France
CATEGORIES:ATELIERS PONCTUELS 2021
ATTACH;FMTTYPE=image/jpeg:https://www.esplanadephoto.org/wp-content/uploads/2021/09/AU-DELA-DE-VOUS-APPRENDRE-LA-PHOTOGRAPHIE_01.jpg
END:VEVENT
BEGIN:VEVENT
DTSTART;TZID=Europe/Paris:20210930T193000
DTEND;TZID=Europe/Paris:20210930T220000
DTSTAMP:20260422T223135
CREATED:20210423T152440Z
LAST-MODIFIED:20210623T060015Z
UID:8865-1633030200-1633039200@www.esplanadephoto.org
SUMMARY:Rencontres Photographiques Apéro Expo (RPAEW) 2021-09-30
DESCRIPTION:Rencontres Photographiques Apéro Expo (RPAEW) 2021-09-30.\nLieu : Maison des Associations – Espace Regnault 12\, Square Henri Regnault\, 92400 Courbevoie. De 19h30 à 22h00.\nGalerie Esplanade Photo – RDV consacrée au vernissage de notre exposition mensuelle. En ligne de 20h à 21h00.
URL:https://www.esplanadephoto.org/calendrier-esplanade-photo/rencontres-photographiques-apero-expo-rpaew-2021-09-30/
LOCATION:Maison des Associations – Espace Regnault\, 12\, Square Henri Regnault\, Courbevoie\, 92400\, France
CATEGORIES:Rencontres Photographiques Apéro Expo 2021-2022
ATTACH;FMTTYPE=image/jpeg:https://www.esplanadephoto.org/wp-content/uploads/2020/04/Nature-Morte-Feuillesr_Esplanade-Photo_01.jpg
ORGANIZER;CN="Association ESPLANADE PHOTO":MAILTO:contact@esplanadephoto.org
END:VEVENT
BEGIN:VEVENT
DTSTART;TZID=Europe/Paris:20210930T200000
DTEND;TZID=Europe/Paris:20210930T210000
DTSTAMP:20260422T223135
CREATED:20211018T185159Z
LAST-MODIFIED:20211018T185914Z
UID:10074-1633032000-1633035600@www.esplanadephoto.org
SUMMARY:VERNISSAGE DE L’EXPOSITION Avec la Lumière du photographe Gyslain YARHI
DESCRIPTION:VERNISSAGE DE L’EXPOSITION « Avec la Lumière » du photographe Gyslain YARHI.\nVernissage en ligne sur invitation le jeudi 30 septembre de 20h à 21h. Pour vous inscrire\, cliquez ICI.
URL:https://www.esplanadephoto.org/calendrier-esplanade-photo/vernissage-de-lexposition-avec-la-lumiere-du-photographe-gyslain-yarhi/
LOCATION:Galerie Esplanade Photo
CATEGORIES:Galerie Esplanade Photo
ATTACH;FMTTYPE=image/jpeg:https://www.esplanadephoto.org/wp-content/uploads/2021/09/Avec-la-lumiere-par-Gyslain-YARHI.jpg
END:VEVENT
END:VCALENDAR