BEGIN:VCALENDAR
VERSION:2.0
PRODID:-//Esplanade Photo - ECPv6.15.20//NONSGML v1.0//EN
CALSCALE:GREGORIAN
METHOD:PUBLISH
X-WR-CALNAME:Esplanade Photo
X-ORIGINAL-URL:https://www.esplanadephoto.org
X-WR-CALDESC:Évènements pour Esplanade Photo
REFRESH-INTERVAL;VALUE=DURATION:PT1H
X-Robots-Tag:noindex
X-PUBLISHED-TTL:PT1H
BEGIN:VTIMEZONE
TZID:Europe/Paris
BEGIN:DAYLIGHT
TZOFFSETFROM:+0100
TZOFFSETTO:+0200
TZNAME:CEST
DTSTART:20200329T010000
END:DAYLIGHT
BEGIN:STANDARD
TZOFFSETFROM:+0200
TZOFFSETTO:+0100
TZNAME:CET
DTSTART:20201025T010000
END:STANDARD
BEGIN:DAYLIGHT
TZOFFSETFROM:+0100
TZOFFSETTO:+0200
TZNAME:CEST
DTSTART:20210328T010000
END:DAYLIGHT
BEGIN:STANDARD
TZOFFSETFROM:+0200
TZOFFSETTO:+0100
TZNAME:CET
DTSTART:20211031T010000
END:STANDARD
BEGIN:DAYLIGHT
TZOFFSETFROM:+0100
TZOFFSETTO:+0200
TZNAME:CEST
DTSTART:20220327T010000
END:DAYLIGHT
BEGIN:STANDARD
TZOFFSETFROM:+0200
TZOFFSETTO:+0100
TZNAME:CET
DTSTART:20221030T010000
END:STANDARD
END:VTIMEZONE
BEGIN:VEVENT
DTSTART;VALUE=DATE:20210625
DTEND;VALUE=DATE:20210901
DTSTAMP:20260423T025947
CREATED:20210609T202234Z
LAST-MODIFIED:20211019T063847Z
UID:9480-1624579200-1630454399@www.esplanadephoto.org
SUMMARY:Exposition "De l’Art à la Défense" réalisée par les membres de l’association Esplanade Photo dans le cadre du Rallye Photo 2021
DESCRIPTION:La galerie Esplanade Photo est heureuse de présenter l’exposition photo « De l’Art à la Défense » réalisée par les membres de l’association Esplanade Photo dans le cadre du Rallye Photo 2021.\nAlexandra R.\, CBoucherie\, Christophe C.\, Corinne B.\, Fabienne S.\, Florence R.\, Jessica B. et Nicolas R. vous invitent à découvrir ou redécouvrir quelques œuvres installées sur le Parvis de la Défense.\nPour accéder à l’exposition interactive et virtuelle\, cliquez sur « De l’Art à la Défense »
URL:https://www.esplanadephoto.org/calendrier-esplanade-photo/exposition-de-lart-a-la-defense-realisee-par-les-membres-de-lassociation-esplanade-photo-dans-le-cadre-du-rallye-photo-2021/
LOCATION:Galerie Esplanade Photo
CATEGORIES:Galerie Esplanade Photo
ATTACH;FMTTYPE=image/jpeg:https://www.esplanadephoto.org/wp-content/uploads/2021/06/Galerie-Esplanade-Photo-RALLYE-PHOTO_03_web-scaled.jpg
END:VEVENT
BEGIN:VEVENT
DTSTART;TZID=Europe/Paris:20210703T170000
DTEND;TZID=Europe/Paris:20210710T100000
DTSTAMP:20260423T025947
CREATED:20210215T142049Z
LAST-MODIFIED:20210331T081143Z
UID:8526-1625331600-1625911200@www.esplanadephoto.org
SUMMARY:STAGE PHOTO À MEGÈVE - PROMENADES PHOTOGRAPHIQUES 2021
DESCRIPTION:STAGE PHOTO À MEGÈVE – « PROMENADES PHOTOGRAPHIQUES ». \nDu samedi 03 juillet au samedi 10 juillet 2021. \nRésidence hôtelière « Les Prés fleuris » \n193 rue du Crêt du Midi 74120 MEGÈVE \nInformations et inscriptions sur le site de l’ATSCAF.
URL:https://www.esplanadephoto.org/calendrier-esplanade-photo/stage-photo-a-megeve-promenades-photographiques-2021/
LOCATION:Résidence hôtelière « Les Prés fleuris »\, 193 rue du Crêt du Midi\, MEGÈVE\, 74120\, France
CATEGORIES:STAGE PHOTO À MEGÈVE
END:VEVENT
BEGIN:VEVENT
DTSTART;TZID=Europe/Paris:20210719T100000
DTEND;TZID=Europe/Paris:20210723T120000
DTSTAMP:20260423T025948
CREATED:20210609T195229Z
LAST-MODIFIED:20210609T200942Z
UID:9471-1626688800-1627041600@www.esplanadephoto.org
SUMMARY:Atelier Photo ADO VACANCES D'ÉTÉ 2021 - Photographier avec son Smartphone
DESCRIPTION:Atelier Photo ADO VACANCES D’ÉTÉ 2021 – Photographier avec son Smartphone – Cet atelier est spécialement conçu pour les adolescents pour apprendre la prise de vue et la retouche photo avec son smartphone pendant 5 matinées.\nEncadrées par un photographe professionnel\, des activités ludiques et créatives leur sont proposées pour découvrir l’univers de la photographie.\nLIEU : En extérieur sur l’esplanade de la Défense pour apprendre par la pratique.\nEN SAVOIR PLUS » ICI
URL:https://www.esplanadephoto.org/calendrier-esplanade-photo/atelier-photo-ado-vacances-dete-2021-photographier-avec-son-smartphone/
LOCATION:Esplanade de la Défense\, 7\, Place de la Défense\, Courbevoie\, 92400\, France
CATEGORIES:Atelier Photo ADO
ATTACH;FMTTYPE=image/jpeg:https://www.esplanadephoto.org/wp-content/uploads/2018/09/LA_DÉFENSE_Heure_Doree_ESPLANADE_PHOTO_01.jpg
ORGANIZER;CN="Association ESPLANADE PHOTO":MAILTO:contact@esplanadephoto.org
END:VEVENT
BEGIN:VEVENT
DTSTART;TZID=Europe/Paris:20210719T140000
DTEND;TZID=Europe/Paris:20210723T170000
DTSTAMP:20260423T025948
CREATED:20210513T155757Z
LAST-MODIFIED:20210609T200719Z
UID:9198-1626703200-1627059600@www.esplanadephoto.org
SUMMARY:Atelier Photo ADO VACANCES D'ÉTÉ 2021 - Initiation à la photographie numérique
DESCRIPTION:Atelier Photo ADO VACANCES D’ÉTÉ 2021 – Initiation à la photographie numérique – Cet atelier est spécialement conçu pour les adolescents pour découvrir pendant 5 après-midi la photographie comme moyen d’expression artistique et apprendre les bases de la prise de vue.\nLIEU : En extérieur sur l’esplanade de la Défense pour apprendre par la pratique.\nEN SAVOIR PLUS » ICI
URL:https://www.esplanadephoto.org/calendrier-esplanade-photo/atelier-photo-ado-vacances-dete-2021-initiation-a-la-photographie-numerique/
LOCATION:Esplanade de la Défense\, 7\, Place de la Défense\, Courbevoie\, 92400\, France
CATEGORIES:Atelier Photo ADO
ATTACH;FMTTYPE=image/jpeg:https://www.esplanadephoto.org/wp-content/uploads/2018/09/LA_DÉFENSE_Heure_Doree_ESPLANADE_PHOTO_01.jpg
ORGANIZER;CN="Association ESPLANADE PHOTO":MAILTO:contact@esplanadephoto.org
END:VEVENT
END:VCALENDAR