BEGIN:VCALENDAR
VERSION:2.0
PRODID:-//Esplanade Photo - ECPv6.15.20//NONSGML v1.0//EN
CALSCALE:GREGORIAN
METHOD:PUBLISH
X-ORIGINAL-URL:https://www.esplanadephoto.org
X-WR-CALDESC:Évènements pour Esplanade Photo
REFRESH-INTERVAL;VALUE=DURATION:PT1H
X-Robots-Tag:noindex
X-PUBLISHED-TTL:PT1H
BEGIN:VTIMEZONE
TZID:Europe/Paris
BEGIN:DAYLIGHT
TZOFFSETFROM:+0100
TZOFFSETTO:+0200
TZNAME:CEST
DTSTART:20190331T010000
END:DAYLIGHT
BEGIN:STANDARD
TZOFFSETFROM:+0200
TZOFFSETTO:+0100
TZNAME:CET
DTSTART:20191027T010000
END:STANDARD
BEGIN:DAYLIGHT
TZOFFSETFROM:+0100
TZOFFSETTO:+0200
TZNAME:CEST
DTSTART:20200329T010000
END:DAYLIGHT
BEGIN:STANDARD
TZOFFSETFROM:+0200
TZOFFSETTO:+0100
TZNAME:CET
DTSTART:20201025T010000
END:STANDARD
BEGIN:DAYLIGHT
TZOFFSETFROM:+0100
TZOFFSETTO:+0200
TZNAME:CEST
DTSTART:20210328T010000
END:DAYLIGHT
BEGIN:STANDARD
TZOFFSETFROM:+0200
TZOFFSETTO:+0100
TZNAME:CET
DTSTART:20211031T010000
END:STANDARD
END:VTIMEZONE
BEGIN:VEVENT
DTSTART;TZID=Europe/Paris:20200903T191500
DTEND;TZID=Europe/Paris:20200903T220000
DTSTAMP:20260421T185842
CREATED:20200414T070707Z
LAST-MODIFIED:20200818T173722Z
UID:5718-1599160500-1599170400@www.esplanadephoto.org
SUMMARY:Réunion de Bureau 2020-09-03
DESCRIPTION:Réunion de Bureau 2020-09-03 de 19h15 à 22h à la Maison des Associations – Espace Regnault 12\, Square Henri Regnault\, 92400 Courbevoie.
URL:https://www.esplanadephoto.org/calendrier-esplanade-photo/reunion-de-bureau-2020-09-03/
LOCATION:Maison des Associations – Espace Regnault\, 12\, Square Henri Regnault\, Courbevoie\, 92400\, France
ATTACH;FMTTYPE=image/jpeg:https://www.esplanadephoto.org/wp-content/uploads/2018/10/Maison-des-Associations_Espace-Regnault_Courbevoie-e1598260145682.jpg
ORGANIZER;CN="Association ESPLANADE PHOTO":MAILTO:contact@esplanadephoto.org
END:VEVENT
END:VCALENDAR