BEGIN:VCALENDAR
VERSION:2.0
PRODID:-//Esplanade Photo - ECPv6.15.20//NONSGML v1.0//EN
CALSCALE:GREGORIAN
METHOD:PUBLISH
X-ORIGINAL-URL:https://www.esplanadephoto.org
X-WR-CALDESC:Évènements pour Esplanade Photo
REFRESH-INTERVAL;VALUE=DURATION:PT1H
X-Robots-Tag:noindex
X-PUBLISHED-TTL:PT1H
BEGIN:VTIMEZONE
TZID:Europe/Paris
BEGIN:DAYLIGHT
TZOFFSETFROM:+0100
TZOFFSETTO:+0200
TZNAME:CEST
DTSTART:20180325T010000
END:DAYLIGHT
BEGIN:STANDARD
TZOFFSETFROM:+0200
TZOFFSETTO:+0100
TZNAME:CET
DTSTART:20181028T010000
END:STANDARD
BEGIN:DAYLIGHT
TZOFFSETFROM:+0100
TZOFFSETTO:+0200
TZNAME:CEST
DTSTART:20190331T010000
END:DAYLIGHT
BEGIN:STANDARD
TZOFFSETFROM:+0200
TZOFFSETTO:+0100
TZNAME:CET
DTSTART:20191027T010000
END:STANDARD
BEGIN:DAYLIGHT
TZOFFSETFROM:+0100
TZOFFSETTO:+0200
TZNAME:CEST
DTSTART:20200329T010000
END:DAYLIGHT
BEGIN:STANDARD
TZOFFSETFROM:+0200
TZOFFSETTO:+0100
TZNAME:CET
DTSTART:20201025T010000
END:STANDARD
END:VTIMEZONE
BEGIN:VEVENT
DTSTART;TZID=Europe/Paris:20191116T143000
DTEND;TZID=Europe/Paris:20191116T163000
DTSTAMP:20260424T090930
CREATED:20190910T084641Z
LAST-MODIFIED:20251002T060628Z
UID:4613-1573914600-1573921800@www.esplanadephoto.org
SUMMARY:Parcours et Patrimoine - Architecture et Photo
DESCRIPTION:Parcours et Patrimoine – Architecture et Photo : En partenariat avec le Musée Roybet Fould\, Courbevoie. \nEn Savoir Plus » www.museeroybetfould.fr
URL:https://www.esplanadephoto.org/calendrier-esplanade-photo/parcours-patrimoine-architecture-photo/
LOCATION:Musée Roybet Fould\, 178 Boulevard Saint-Denis\, Courbevoie\, 92400\, France
CATEGORIES:Musée Roybet Fould
END:VEVENT
END:VCALENDAR