BEGIN:VCALENDAR
VERSION:2.0
PRODID:-//Esplanade Photo - ECPv6.15.20//NONSGML v1.0//EN
CALSCALE:GREGORIAN
METHOD:PUBLISH
X-ORIGINAL-URL:https://www.esplanadephoto.org
X-WR-CALDESC:Évènements pour Esplanade Photo
REFRESH-INTERVAL;VALUE=DURATION:PT1H
X-Robots-Tag:noindex
X-PUBLISHED-TTL:PT1H
BEGIN:VTIMEZONE
TZID:Europe/Paris
BEGIN:DAYLIGHT
TZOFFSETFROM:+0100
TZOFFSETTO:+0200
TZNAME:CEST
DTSTART:20170326T010000
END:DAYLIGHT
BEGIN:STANDARD
TZOFFSETFROM:+0200
TZOFFSETTO:+0100
TZNAME:CET
DTSTART:20171029T010000
END:STANDARD
BEGIN:DAYLIGHT
TZOFFSETFROM:+0100
TZOFFSETTO:+0200
TZNAME:CEST
DTSTART:20180325T010000
END:DAYLIGHT
BEGIN:STANDARD
TZOFFSETFROM:+0200
TZOFFSETTO:+0100
TZNAME:CET
DTSTART:20181028T010000
END:STANDARD
BEGIN:DAYLIGHT
TZOFFSETFROM:+0100
TZOFFSETTO:+0200
TZNAME:CEST
DTSTART:20190331T010000
END:DAYLIGHT
BEGIN:STANDARD
TZOFFSETFROM:+0200
TZOFFSETTO:+0100
TZNAME:CET
DTSTART:20191027T010000
END:STANDARD
END:VTIMEZONE
BEGIN:VEVENT
DTSTART;TZID=Europe/Paris:20180908T090000
DTEND;TZID=Europe/Paris:20180908T180000
DTSTAMP:20260423T180352
CREATED:20180427T140009Z
LAST-MODIFIED:20181026T094215Z
UID:974-1536397200-1536429600@www.esplanadephoto.org
SUMMARY:Forum des Associations de Courbevoie Vitaville 2018
DESCRIPTION:Forum des Associations de Courbevoie Vitaville samedi 08 septembre 2018\, stand n°162.\nVous pourrez à cette occasion découvrir les ateliers proposés par l’association Esplanade Photo et poser toutes vos questions.\nVenez nous rencontrer !
URL:https://www.esplanadephoto.org/calendrier-esplanade-photo/forum-des-associations-de-courbevoie-vitaville-2018/
LOCATION:QUAIS LIBRES\, quai Maréchal Joffre\, Courbevoie\, 92400\, France
CATEGORIES:Forum des Associations de Courbevoie Vitaville
ORGANIZER;CN="Association ESPLANADE PHOTO":MAILTO:contact@esplanadephoto.org
END:VEVENT
END:VCALENDAR