BEGIN:VCALENDAR
VERSION:2.0
PRODID:-//Esplanade Photo - ECPv6.15.20//NONSGML v1.0//EN
CALSCALE:GREGORIAN
METHOD:PUBLISH
X-WR-CALNAME:Esplanade Photo
X-ORIGINAL-URL:https://www.esplanadephoto.org
X-WR-CALDESC:Évènements pour Esplanade Photo
REFRESH-INTERVAL;VALUE=DURATION:PT1H
X-Robots-Tag:noindex
X-PUBLISHED-TTL:PT1H
BEGIN:VTIMEZONE
TZID:Europe/Paris
BEGIN:DAYLIGHT
TZOFFSETFROM:+0100
TZOFFSETTO:+0200
TZNAME:CEST
DTSTART:20170326T010000
END:DAYLIGHT
BEGIN:STANDARD
TZOFFSETFROM:+0200
TZOFFSETTO:+0100
TZNAME:CET
DTSTART:20171029T010000
END:STANDARD
BEGIN:DAYLIGHT
TZOFFSETFROM:+0100
TZOFFSETTO:+0200
TZNAME:CEST
DTSTART:20180325T010000
END:DAYLIGHT
BEGIN:STANDARD
TZOFFSETFROM:+0200
TZOFFSETTO:+0100
TZNAME:CET
DTSTART:20181028T010000
END:STANDARD
BEGIN:DAYLIGHT
TZOFFSETFROM:+0100
TZOFFSETTO:+0200
TZNAME:CEST
DTSTART:20190331T010000
END:DAYLIGHT
BEGIN:STANDARD
TZOFFSETFROM:+0200
TZOFFSETTO:+0100
TZNAME:CET
DTSTART:20191027T010000
END:STANDARD
END:VTIMEZONE
BEGIN:VEVENT
DTSTART;TZID=Europe/Paris:20181006T143000
DTEND;TZID=Europe/Paris:20181006T163000
DTSTAMP:20260426T035550
CREATED:20180709T170554Z
LAST-MODIFIED:20181026T095103Z
UID:1379-1538836200-1538843400@www.esplanadephoto.org
SUMMARY:Atelier rencontres photographiques 2018-10-06
DESCRIPTION:Atelier rencontres photographiques 2018-10-06.\nNous nous retrouvons pour une visite d’exposition\, moyen essentiel d’acquérir ou d’approfondir sa culture photographique.\nLes dates de sorties de la saison sont fixées sur le calendrier (environ quinze par an).\nNous annoncerons le nom de l’exposition et le lieu sur le forum une semaine à l’avance.\nLes samedis à Paris de 14h30 à 16h30.
URL:https://www.esplanadephoto.org/calendrier-esplanade-photo/atelier-rencontres-photographiques-2018-10-06/
LOCATION:Paris\, Parvis de l’Hôtel de Ville\, Paris\, 75004\, France
CATEGORIES:Atelier rencontres photographiques
ORGANIZER;CN="Association ESPLANADE PHOTO":MAILTO:contact@esplanadephoto.org
END:VEVENT
BEGIN:VEVENT
DTSTART;TZID=Europe/Paris:20181020T143000
DTEND;TZID=Europe/Paris:20181020T163000
DTSTAMP:20260426T035550
CREATED:20180709T171056Z
LAST-MODIFIED:20181026T095536Z
UID:1382-1540045800-1540053000@www.esplanadephoto.org
SUMMARY:Atelier rencontres photographiques 2018-10-20
DESCRIPTION:Atelier rencontres photographiques 2018-10-20.\nNous nous retrouvons pour une visite d’exposition\, moyen essentiel d’acquérir ou d’approfondir sa culture photographique.\nLes dates de sorties de la saison sont fixées sur le calendrier (environ quinze par an).\nNous annoncerons le nom de l’exposition et le lieu sur le forum une semaine à l’avance.\nLes samedis à Paris de 14h30 à 16h30.
URL:https://www.esplanadephoto.org/calendrier-esplanade-photo/atelier-rencontres-photographiques-2018-10-20/
LOCATION:Paris\, Parvis de l’Hôtel de Ville\, Paris\, 75004\, France
CATEGORIES:Atelier rencontres photographiques
ORGANIZER;CN="Association ESPLANADE PHOTO":MAILTO:contact@esplanadephoto.org
END:VEVENT
END:VCALENDAR