BEGIN:VCALENDAR
VERSION:2.0
PRODID:-//Esplanade Photo - ECPv6.15.20//NONSGML v1.0//EN
CALSCALE:GREGORIAN
METHOD:PUBLISH
X-ORIGINAL-URL:https://www.esplanadephoto.org
X-WR-CALDESC:Évènements pour Esplanade Photo
REFRESH-INTERVAL;VALUE=DURATION:PT1H
X-Robots-Tag:noindex
X-PUBLISHED-TTL:PT1H
BEGIN:VTIMEZONE
TZID:Europe/Paris
BEGIN:DAYLIGHT
TZOFFSETFROM:+0100
TZOFFSETTO:+0200
TZNAME:CEST
DTSTART:20180325T010000
END:DAYLIGHT
BEGIN:STANDARD
TZOFFSETFROM:+0200
TZOFFSETTO:+0100
TZNAME:CET
DTSTART:20181028T010000
END:STANDARD
BEGIN:DAYLIGHT
TZOFFSETFROM:+0100
TZOFFSETTO:+0200
TZNAME:CEST
DTSTART:20190331T010000
END:DAYLIGHT
BEGIN:STANDARD
TZOFFSETFROM:+0200
TZOFFSETTO:+0100
TZNAME:CET
DTSTART:20191027T010000
END:STANDARD
BEGIN:DAYLIGHT
TZOFFSETFROM:+0100
TZOFFSETTO:+0200
TZNAME:CEST
DTSTART:20200329T010000
END:DAYLIGHT
BEGIN:STANDARD
TZOFFSETFROM:+0200
TZOFFSETTO:+0100
TZNAME:CET
DTSTART:20201025T010000
END:STANDARD
END:VTIMEZONE
BEGIN:VEVENT
DTSTART;TZID=Europe/Paris:20190124T191500
DTEND;TZID=Europe/Paris:20190124T220000
DTSTAMP:20260422T042619
CREATED:20180709T041656Z
LAST-MODIFIED:20181026T201443Z
UID:1267-1548357300-1548367200@www.esplanadephoto.org
SUMMARY:Atelier Esplanade des Arts 2019-01-24
DESCRIPTION:Atelier Esplanade des Arts 2019-01-24.\nL’atelier Esplanade des Arts (Instauré et organisé par l’Esplanade Photo) a pour but de promouvoir des échanges\, du partage et des collaborations entre artistes venant de différents horizons\, le tout dans une ambiance conviviale.\nRéunion bimestrielle*\, quatrièmes jeudis des mois de septembre\, novembre\, janvier\, mars et mai de 19h15 à 22h.\nLieu : Maison des Associations – Espace Regnault 12\, Square Henri Regnault\, 92400 Courbevoie.
URL:https://www.esplanadephoto.org/calendrier-esplanade-photo/atelier-esplanade-des-arts-2019-01-24/
LOCATION:Maison des Associations – ESPACE VINCI\, 36\, Avenue de l'Arche\, Courbevoie\, 92400\, France
CATEGORIES:Atelier Esplanade des Arts
ORGANIZER;CN="Association ESPLANADE PHOTO":MAILTO:contact@esplanadephoto.org
END:VEVENT
END:VCALENDAR