BEGIN:VCALENDAR
VERSION:2.0
PRODID:-//Esplanade Photo - ECPv6.15.20//NONSGML v1.0//EN
CALSCALE:GREGORIAN
METHOD:PUBLISH
X-WR-CALNAME:Esplanade Photo
X-ORIGINAL-URL:https://www.esplanadephoto.org
X-WR-CALDESC:Évènements pour Esplanade Photo
REFRESH-INTERVAL;VALUE=DURATION:PT1H
X-Robots-Tag:noindex
X-PUBLISHED-TTL:PT1H
BEGIN:VTIMEZONE
TZID:Europe/Paris
BEGIN:DAYLIGHT
TZOFFSETFROM:+0100
TZOFFSETTO:+0200
TZNAME:CEST
DTSTART:20230326T010000
END:DAYLIGHT
BEGIN:STANDARD
TZOFFSETFROM:+0200
TZOFFSETTO:+0100
TZNAME:CET
DTSTART:20231029T010000
END:STANDARD
BEGIN:DAYLIGHT
TZOFFSETFROM:+0100
TZOFFSETTO:+0200
TZNAME:CEST
DTSTART:20240331T010000
END:DAYLIGHT
BEGIN:STANDARD
TZOFFSETFROM:+0200
TZOFFSETTO:+0100
TZNAME:CET
DTSTART:20241027T010000
END:STANDARD
BEGIN:DAYLIGHT
TZOFFSETFROM:+0100
TZOFFSETTO:+0200
TZNAME:CEST
DTSTART:20250330T010000
END:DAYLIGHT
BEGIN:STANDARD
TZOFFSETFROM:+0200
TZOFFSETTO:+0100
TZNAME:CET
DTSTART:20251026T010000
END:STANDARD
END:VTIMEZONE
BEGIN:VEVENT
DTSTART;TZID=Europe/Paris:20240923T193000
DTEND;TZID=Europe/Paris:20240923T220000
DTSTAMP:20260423T094544
CREATED:20240902T053844Z
LAST-MODIFIED:20240902T122538Z
UID:15426-1727119800-1727128800@www.esplanadephoto.org
SUMMARY:Le Portrait - L’art de mettre en valeur vos sujets 23/09/2024
DESCRIPTION:Le Portrait – L’art de mettre en valeur vos sujets 23/09/2024\nCet atelier vous permettra de comprendre les fondamentaux de la pose\, de mettre en valeur différentes morphologies de sujets\, de diversifier leurs poses et d’apprendre diverses techniques pour rendre les poses naturelles\, tout en mettant à l’aise les sujets. Des analyses et des conseils personnalisés vous aideront à progresser pour obtenir des poses naturelles et esthétiques. \nInformations et inscription ICI.
URL:https://www.esplanadephoto.org/calendrier-esplanade-photo/le-portrait-lart-de-mettre-en-valeur-vos-sujets-23-09-2024/
LOCATION:Esplanade de la Défense\, 7\, Place de la Défense\, Courbevoie\, 92400\, France
CATEGORIES: ATELIERS PONCTUELS 2024
ATTACH;FMTTYPE=image/jpeg:https://www.esplanadephoto.org/wp-content/uploads/2021/09/AU-DELA-DE-VOUS-APPRENDRE-LA-PHOTOGRAPHIE_01.jpg
END:VEVENT
END:VCALENDAR