BEGIN:VCALENDAR
VERSION:2.0
PRODID:-//Esplanade Photo - ECPv6.15.20//NONSGML v1.0//EN
CALSCALE:GREGORIAN
METHOD:PUBLISH
X-WR-CALNAME:Esplanade Photo
X-ORIGINAL-URL:https://www.esplanadephoto.org
X-WR-CALDESC:Évènements pour Esplanade Photo
REFRESH-INTERVAL;VALUE=DURATION:PT1H
X-Robots-Tag:noindex
X-PUBLISHED-TTL:PT1H
BEGIN:VTIMEZONE
TZID:Europe/Paris
BEGIN:DAYLIGHT
TZOFFSETFROM:+0100
TZOFFSETTO:+0200
TZNAME:CEST
DTSTART:20230326T010000
END:DAYLIGHT
BEGIN:STANDARD
TZOFFSETFROM:+0200
TZOFFSETTO:+0100
TZNAME:CET
DTSTART:20231029T010000
END:STANDARD
BEGIN:DAYLIGHT
TZOFFSETFROM:+0100
TZOFFSETTO:+0200
TZNAME:CEST
DTSTART:20240331T010000
END:DAYLIGHT
BEGIN:STANDARD
TZOFFSETFROM:+0200
TZOFFSETTO:+0100
TZNAME:CET
DTSTART:20241027T010000
END:STANDARD
BEGIN:DAYLIGHT
TZOFFSETFROM:+0100
TZOFFSETTO:+0200
TZNAME:CEST
DTSTART:20250330T010000
END:DAYLIGHT
BEGIN:STANDARD
TZOFFSETFROM:+0200
TZOFFSETTO:+0100
TZNAME:CET
DTSTART:20251026T010000
END:STANDARD
END:VTIMEZONE
BEGIN:VEVENT
DTSTART;TZID=Europe/Paris:20240617T193000
DTEND;TZID=Europe/Paris:20240617T220000
DTSTAMP:20260423T133129
CREATED:20240528T061801Z
LAST-MODIFIED:20240528T062028Z
UID:15191-1718652600-1718661600@www.esplanadephoto.org
SUMMARY:L’Art du Cadrage et de la Composition 17/06/2024
DESCRIPTION:L’Art du Cadrage et de la Composition 17/06/2024\nPlongez au cœur de l’art de la composition photographique avec notre atelier dédié au Cadrage et à la Composition. Maîtrisez l’art de décrypter et de façonner des images qui captivent\, dynamisent\, marquent les esprits et stimulent la créativité. Grâce à une série d’exercices pratiques\, d’analyses approfondies et de recommandations sur mesure\, vous acquerrez les compétences pour affiner votre style photographique et élever votre pratique artistique. \nInformations et inscription ICI.
URL:https://www.esplanadephoto.org/calendrier-esplanade-photo/lart-du-cadrage-et-de-la-composition-17-06-2024/
LOCATION:Maison des Associations – Espace Regnault\, 12\, Square Henri Regnault\, Courbevoie\, 92400\, France
CATEGORIES: ATELIERS PONCTUELS 2024
ATTACH;FMTTYPE=image/jpeg:https://www.esplanadephoto.org/wp-content/uploads/2021/09/AU-DELA-DE-VOUS-APPRENDRE-LA-PHOTOGRAPHIE_01.jpg
END:VEVENT
END:VCALENDAR