BEGIN:VCALENDAR
VERSION:2.0
PRODID:-//Esplanade Photo - ECPv6.15.20//NONSGML v1.0//EN
CALSCALE:GREGORIAN
METHOD:PUBLISH
X-WR-CALNAME:Esplanade Photo
X-ORIGINAL-URL:https://www.esplanadephoto.org
X-WR-CALDESC:Évènements pour Esplanade Photo
REFRESH-INTERVAL;VALUE=DURATION:PT1H
X-Robots-Tag:noindex
X-PUBLISHED-TTL:PT1H
BEGIN:VTIMEZONE
TZID:Europe/Paris
BEGIN:DAYLIGHT
TZOFFSETFROM:+0100
TZOFFSETTO:+0200
TZNAME:CEST
DTSTART:20230326T010000
END:DAYLIGHT
BEGIN:STANDARD
TZOFFSETFROM:+0200
TZOFFSETTO:+0100
TZNAME:CET
DTSTART:20231029T010000
END:STANDARD
BEGIN:DAYLIGHT
TZOFFSETFROM:+0100
TZOFFSETTO:+0200
TZNAME:CEST
DTSTART:20240331T010000
END:DAYLIGHT
BEGIN:STANDARD
TZOFFSETFROM:+0200
TZOFFSETTO:+0100
TZNAME:CET
DTSTART:20241027T010000
END:STANDARD
BEGIN:DAYLIGHT
TZOFFSETFROM:+0100
TZOFFSETTO:+0200
TZNAME:CEST
DTSTART:20250330T010000
END:DAYLIGHT
BEGIN:STANDARD
TZOFFSETFROM:+0200
TZOFFSETTO:+0100
TZNAME:CET
DTSTART:20251026T010000
END:STANDARD
END:VTIMEZONE
BEGIN:VEVENT
DTSTART;TZID=Europe/Paris:20240608T090000
DTEND;TZID=Europe/Paris:20240608T113000
DTSTAMP:20260423T133126
CREATED:20240528T060644Z
LAST-MODIFIED:20240603T101703Z
UID:15184-1717837200-1717846200@www.esplanadephoto.org
SUMMARY:La photographie de Paysage 08/06/2024
DESCRIPTION:La photographie de Paysage 08/06/2024\nÊtes-vous passionné par la grande beauté de la nature ? Souhaitez-vous immortaliser les vues époustouflantes que vous rencontrez lors de vos aventures ? Notre cours de photographie de paysage est conçu pour vous aider à capturer l’essence des panoramas naturels avec art et technique. \nInformations et inscription ICI.
URL:https://www.esplanadephoto.org/calendrier-esplanade-photo/la-photographie-de-paysage-08-06-2024/
LOCATION:Maison des Associations – Espace Regnault\, 12\, Square Henri Regnault\, Courbevoie\, 92400\, France
CATEGORIES: ATELIERS PONCTUELS 2024
ATTACH;FMTTYPE=image/jpeg:https://www.esplanadephoto.org/wp-content/uploads/2021/09/AU-DELA-DE-VOUS-APPRENDRE-LA-PHOTOGRAPHIE_01.jpg
END:VEVENT
END:VCALENDAR