BEGIN:VCALENDAR
VERSION:2.0
PRODID:-//Esplanade Photo - ECPv6.15.20//NONSGML v1.0//EN
CALSCALE:GREGORIAN
METHOD:PUBLISH
X-WR-CALNAME:Esplanade Photo
X-ORIGINAL-URL:https://www.esplanadephoto.org
X-WR-CALDESC:Évènements pour Esplanade Photo
REFRESH-INTERVAL;VALUE=DURATION:PT1H
X-Robots-Tag:noindex
X-PUBLISHED-TTL:PT1H
BEGIN:VTIMEZONE
TZID:Europe/Paris
BEGIN:DAYLIGHT
TZOFFSETFROM:+0100
TZOFFSETTO:+0200
TZNAME:CEST
DTSTART:20230326T010000
END:DAYLIGHT
BEGIN:STANDARD
TZOFFSETFROM:+0200
TZOFFSETTO:+0100
TZNAME:CET
DTSTART:20231029T010000
END:STANDARD
BEGIN:DAYLIGHT
TZOFFSETFROM:+0100
TZOFFSETTO:+0200
TZNAME:CEST
DTSTART:20240331T010000
END:DAYLIGHT
BEGIN:STANDARD
TZOFFSETFROM:+0200
TZOFFSETTO:+0100
TZNAME:CET
DTSTART:20241027T010000
END:STANDARD
BEGIN:DAYLIGHT
TZOFFSETFROM:+0100
TZOFFSETTO:+0200
TZNAME:CEST
DTSTART:20250330T010000
END:DAYLIGHT
BEGIN:STANDARD
TZOFFSETFROM:+0200
TZOFFSETTO:+0100
TZNAME:CET
DTSTART:20251026T010000
END:STANDARD
END:VTIMEZONE
BEGIN:VEVENT
DTSTART;TZID=Europe/Paris:20240916T193000
DTEND;TZID=Europe/Paris:20240916T220000
DTSTAMP:20260423T083006
CREATED:20240902T054615Z
LAST-MODIFIED:20240902T055128Z
UID:15429-1726515000-1726524000@www.esplanadephoto.org
SUMMARY:La Magie des lumières : maîtrisez l'heure dorée et l'heure bleue 16/09/2024
DESCRIPTION:La Magie des lumières : maîtrisez l’heure dorée et l’heure bleue 16/09/2024\nDécouvrez les techniques pour capturer la magie de l’heure dorée et de l’heure bleue à Paris-La Défense. Cet atelier photo vous offre l’opportunité d’améliorer votre créativité en utilisant le quartier d’affaires de Paris-La Défense comme terrain d’apprentissage. Vous apprendrez les astuces pour réussir vos photos lors des moments les plus photogéniques de la journée. Analyse de vos photos et conseils personnalisés pour progresser. Vous aurez besoin d’un appareil photo reflex\, hybride ou bridge\, d’un pied photo (possibilité de prêt) et d’une télécommande (facultatif). \nInformations et inscription ICI.
URL:https://www.esplanadephoto.org/calendrier-esplanade-photo/la-magie-des-lumieres-maitrisez-lheure-doree-et-lheure-bleue-16-09-2024/
LOCATION:Esplanade de la Défense\, 7\, Place de la Défense\, Courbevoie\, 92400\, France
CATEGORIES: ATELIERS PONCTUELS 2024
ATTACH;FMTTYPE=image/jpeg:https://www.esplanadephoto.org/wp-content/uploads/2021/09/AU-DELA-DE-VOUS-APPRENDRE-LA-PHOTOGRAPHIE_01.jpg
END:VEVENT
BEGIN:VEVENT
DTSTART;TZID=Europe/Paris:20240919T193000
DTEND;TZID=Europe/Paris:20240919T220000
DTSTAMP:20260423T083006
CREATED:20240902T052436Z
LAST-MODIFIED:20240902T122713Z
UID:15420-1726774200-1726783200@www.esplanadephoto.org
SUMMARY:Astuces créatives pour faire de belles photos 19/09/2024
DESCRIPTION:Astuces créatives pour faire de belles photos\nDécouvrez des astuces pour sublimer vos photos et explorer de nouvelles perspectives. \nInformations et inscription ICI.
URL:https://www.esplanadephoto.org/calendrier-esplanade-photo/astuces-creatives-pour-faire-de-belles-photos-19-09-2024/
LOCATION:Maison des Associations – Espace Regnault\, 12\, Square Henri Regnault\, Courbevoie\, 92400\, France
CATEGORIES: ATELIERS PONCTUELS 2024
ATTACH;FMTTYPE=image/jpeg:https://www.esplanadephoto.org/wp-content/uploads/2021/09/AU-DELA-DE-VOUS-APPRENDRE-LA-PHOTOGRAPHIE_01.jpg
END:VEVENT
BEGIN:VEVENT
DTSTART;TZID=Europe/Paris:20240923T193000
DTEND;TZID=Europe/Paris:20240923T220000
DTSTAMP:20260423T083006
CREATED:20240902T053844Z
LAST-MODIFIED:20240902T122538Z
UID:15426-1727119800-1727128800@www.esplanadephoto.org
SUMMARY:Le Portrait - L’art de mettre en valeur vos sujets 23/09/2024
DESCRIPTION:Le Portrait – L’art de mettre en valeur vos sujets 23/09/2024\nCet atelier vous permettra de comprendre les fondamentaux de la pose\, de mettre en valeur différentes morphologies de sujets\, de diversifier leurs poses et d’apprendre diverses techniques pour rendre les poses naturelles\, tout en mettant à l’aise les sujets. Des analyses et des conseils personnalisés vous aideront à progresser pour obtenir des poses naturelles et esthétiques. \nInformations et inscription ICI.
URL:https://www.esplanadephoto.org/calendrier-esplanade-photo/le-portrait-lart-de-mettre-en-valeur-vos-sujets-23-09-2024/
LOCATION:Esplanade de la Défense\, 7\, Place de la Défense\, Courbevoie\, 92400\, France
CATEGORIES: ATELIERS PONCTUELS 2024
ATTACH;FMTTYPE=image/jpeg:https://www.esplanadephoto.org/wp-content/uploads/2021/09/AU-DELA-DE-VOUS-APPRENDRE-LA-PHOTOGRAPHIE_01.jpg
END:VEVENT
BEGIN:VEVENT
DTSTART;TZID=Europe/Paris:20240930T193000
DTEND;TZID=Europe/Paris:20240930T220000
DTSTAMP:20260423T083006
CREATED:20240902T053127Z
LAST-MODIFIED:20240902T133944Z
UID:15423-1727724600-1727733600@www.esplanadephoto.org
SUMMARY:Atelier créatif pose longue 2024-09-30
DESCRIPTION:Laissez libre cours à votre créativité photo grâce à la pose longue de jour comme de nuit. \nL’objectif de cet atelier est de vous faire acquérir les connaissances pour maîtriser les techniques de la pose longue. \nInformations et inscription ICI.
URL:https://www.esplanadephoto.org/calendrier-esplanade-photo/atelier-creatif-pose-longue-2024-09-30/
LOCATION:Esplanade de la Défense\, 7\, Place de la Défense\, Courbevoie\, 92400\, France
CATEGORIES: ATELIERS PONCTUELS 2024
ATTACH;FMTTYPE=image/jpeg:https://www.esplanadephoto.org/wp-content/uploads/2021/09/AU-DELA-DE-VOUS-APPRENDRE-LA-PHOTOGRAPHIE_01.jpg
END:VEVENT
END:VCALENDAR