BEGIN:VCALENDAR
VERSION:2.0
PRODID:-//Esplanade Photo - ECPv6.15.20//NONSGML v1.0//EN
CALSCALE:GREGORIAN
METHOD:PUBLISH
X-WR-CALNAME:Esplanade Photo
X-ORIGINAL-URL:https://www.esplanadephoto.org
X-WR-CALDESC:Évènements pour Esplanade Photo
REFRESH-INTERVAL;VALUE=DURATION:PT1H
X-Robots-Tag:noindex
X-PUBLISHED-TTL:PT1H
BEGIN:VTIMEZONE
TZID:Europe/Paris
BEGIN:DAYLIGHT
TZOFFSETFROM:+0100
TZOFFSETTO:+0200
TZNAME:CEST
DTSTART:20230326T010000
END:DAYLIGHT
BEGIN:STANDARD
TZOFFSETFROM:+0200
TZOFFSETTO:+0100
TZNAME:CET
DTSTART:20231029T010000
END:STANDARD
BEGIN:DAYLIGHT
TZOFFSETFROM:+0100
TZOFFSETTO:+0200
TZNAME:CEST
DTSTART:20240331T010000
END:DAYLIGHT
BEGIN:STANDARD
TZOFFSETFROM:+0200
TZOFFSETTO:+0100
TZNAME:CET
DTSTART:20241027T010000
END:STANDARD
BEGIN:DAYLIGHT
TZOFFSETFROM:+0100
TZOFFSETTO:+0200
TZNAME:CEST
DTSTART:20250330T010000
END:DAYLIGHT
BEGIN:STANDARD
TZOFFSETFROM:+0200
TZOFFSETTO:+0100
TZNAME:CET
DTSTART:20251026T010000
END:STANDARD
END:VTIMEZONE
BEGIN:VEVENT
DTSTART;TZID=Europe/Paris:20240411T193000
DTEND;TZID=Europe/Paris:20240411T220000
DTSTAMP:20260423T145024
CREATED:20240330T123924Z
LAST-MODIFIED:20240330T124650Z
UID:14130-1712863800-1712872800@www.esplanadephoto.org
SUMMARY:Bien photographier au flash 11/04/2024
DESCRIPTION:Comprendre la lumière et la maîtriser\nLa photographie avec un flash n’est pas une tâche simple. Cependant\, en adoptant la bonne méthode\, il est possible d’obtenir de superbes clichés. Que ce soit en intérieur\, de nuit ou même en plein jour\, l’utilisation du flash dévoile de nouvelles possibilités créatives. \nInformations et inscription ICI.
URL:https://www.esplanadephoto.org/calendrier-esplanade-photo/bien-photographier-au-flash-11-04-2024/
LOCATION:Maison des Associations – Espace Regnault\, 12\, Square Henri Regnault\, Courbevoie\, 92400\, France
CATEGORIES: ATELIERS PONCTUELS 2024
ATTACH;FMTTYPE=image/jpeg:https://www.esplanadephoto.org/wp-content/uploads/2021/09/AU-DELA-DE-VOUS-APPRENDRE-LA-PHOTOGRAPHIE_01.jpg
END:VEVENT
BEGIN:VEVENT
DTSTART;TZID=Europe/Paris:20240418T193000
DTEND;TZID=Europe/Paris:20240418T220000
DTSTAMP:20260423T145024
CREATED:20240330T125329Z
LAST-MODIFIED:20240330T125542Z
UID:14136-1713468600-1713477600@www.esplanadephoto.org
SUMMARY:Astuces créatives pour faire de belles photos 18/04/2024
DESCRIPTION:Astuces créatives pour faire de belles photos\nDécouvrez des astuces pour sublimer vos photos et explorer de nouvelles perspectives. \nInformations et inscription ICI.
URL:https://www.esplanadephoto.org/calendrier-esplanade-photo/astuces-creatives-pour-faire-de-belles-photos-18-04-2024/
LOCATION:Maison des Associations – Espace Regnault\, 12\, Square Henri Regnault\, Courbevoie\, 92400\, France
CATEGORIES: ATELIERS PONCTUELS 2024
ATTACH;FMTTYPE=image/jpeg:https://www.esplanadephoto.org/wp-content/uploads/2021/09/AU-DELA-DE-VOUS-APPRENDRE-LA-PHOTOGRAPHIE_01.jpg
END:VEVENT
BEGIN:VEVENT
DTSTART;TZID=Europe/Paris:20240425T193000
DTEND;TZID=Europe/Paris:20240425T220000
DTSTAMP:20260423T145024
CREATED:20240330T125024Z
LAST-MODIFIED:20240330T125320Z
UID:14133-1714073400-1714082400@www.esplanadephoto.org
SUMMARY:La photographie de nuit 25/04/2024
DESCRIPTION:La photographie de nuit\nLa photographie de nuit est un domaine véritablement captivant. Une scène banale et peu intéressante de jour peut être totalement transformée et sublimée une fois photographiée de nuit. \nInformations et inscription ICI.
URL:https://www.esplanadephoto.org/calendrier-esplanade-photo/la-photographie-de-nuit-25-04-2024/
LOCATION:Maison des Associations – Espace Regnault\, 12\, Square Henri Regnault\, Courbevoie\, 92400\, France
CATEGORIES: ATELIERS PONCTUELS 2024
ATTACH;FMTTYPE=image/jpeg:https://www.esplanadephoto.org/wp-content/uploads/2021/09/AU-DELA-DE-VOUS-APPRENDRE-LA-PHOTOGRAPHIE_01.jpg
END:VEVENT
END:VCALENDAR