BEGIN:VCALENDAR
VERSION:2.0
PRODID:-//Esplanade Photo - ECPv6.15.20//NONSGML v1.0//EN
CALSCALE:GREGORIAN
METHOD:PUBLISH
X-WR-CALNAME:Esplanade Photo
X-ORIGINAL-URL:https://www.esplanadephoto.org
X-WR-CALDESC:Évènements pour Esplanade Photo
REFRESH-INTERVAL;VALUE=DURATION:PT1H
X-Robots-Tag:noindex
X-PUBLISHED-TTL:PT1H
BEGIN:VTIMEZONE
TZID:Europe/Paris
BEGIN:DAYLIGHT
TZOFFSETFROM:+0100
TZOFFSETTO:+0200
TZNAME:CEST
DTSTART:20250330T010000
END:DAYLIGHT
BEGIN:STANDARD
TZOFFSETFROM:+0200
TZOFFSETTO:+0100
TZNAME:CET
DTSTART:20251026T010000
END:STANDARD
BEGIN:DAYLIGHT
TZOFFSETFROM:+0100
TZOFFSETTO:+0200
TZNAME:CEST
DTSTART:20260329T010000
END:DAYLIGHT
BEGIN:STANDARD
TZOFFSETFROM:+0200
TZOFFSETTO:+0100
TZNAME:CET
DTSTART:20261025T010000
END:STANDARD
BEGIN:DAYLIGHT
TZOFFSETFROM:+0100
TZOFFSETTO:+0200
TZNAME:CEST
DTSTART:20270328T010000
END:DAYLIGHT
BEGIN:STANDARD
TZOFFSETFROM:+0200
TZOFFSETTO:+0100
TZNAME:CET
DTSTART:20271031T010000
END:STANDARD
END:VTIMEZONE
BEGIN:VEVENT
DTSTART;TZID=Europe/Paris:20260421T193000
DTEND;TZID=Europe/Paris:20260421T203000
DTSTAMP:20260421T012902
CREATED:20250508T095143Z
LAST-MODIFIED:20250508T095252Z
UID:16421-1776799800-1776803400@www.esplanadephoto.org
SUMMARY:Atelier d'Analyse d’Images en ligne (AIW) 2026-04-21
DESCRIPTION:Atelier d’Analyse d’Images en ligne (AIW) 2026-04-21. \n\n\n\nVous souhaitez progresser dans votre pratique photographique ? Rejoignez-nous pour des analyses approfondies d’images et de séries photos. Nous vous expliquerons les points forts et les axes d’amélioration des photos et séries publiées dans le cadre du Défi Photo et de nos ateliers. \n\n\n\nQuatre ateliers d’Analyse d’Images en ligne se dérouleront successivement de 19h30 à 22h00\, selon le programme suivant : \n\nAnalyse d’Images en ligne (AIW) de 19h30 à 20h00\n\nCet atelier en ligne est gratuit pour les adhérents de l’association Esplanade Photo. \n\nAnalyse d’Images en ligne (AIW BPPS-AM) de 20h00 à 20h30\n\nRéservé aux membres de l’atelier Balades Photographiques du samedi matin à Paris. \n\nAnalyse d’Images en ligne (AIW SP) de 20h30 à 21h00\n\nRéservé aux membres de l’atelier Séries Photographiques. \n\nAnalyse d’Images en ligne (AIW BPPD-AM) de 21h00 à 21h30\n\nRéservé aux membres de l’atelier Balades Photographiques du dimanche matin à Paris. \n\nAnalyse d’Images en ligne (AIW BPPD-PM) de 21h30 à 22h00.\n\nRéservé aux membres de l’atelier Balades Photographiques du dimanche après-midi à Paris. \n\n\n\nRejoignez-nous dès maintenant pour découvrir de nouveaux horizons artistiques et progresser dans votre pratique de la photographie ! J’adhère à l’association. \nCalendrier AIW 2025-2026
URL:https://www.esplanadephoto.org/calendrier-esplanade-photo/atelier-danalyse-dimages-en-ligne-aiw-2026-04-21/
LOCATION:Atelier interactif en ligne et en direct sur www.esplanadephoto.org
CATEGORIES:AIW 2025-2026
ATTACH;FMTTYPE=image/jpeg:https://www.esplanadephoto.org/wp-content/uploads/2024/05/Salon-de-lAgriculture-Produits-de-nos-regions_08.jpg
ORGANIZER;CN="Association ESPLANADE PHOTO":MAILTO:contact@esplanadephoto.org
END:VEVENT
END:VCALENDAR