BEGIN:VCALENDAR
VERSION:2.0
PRODID:-//Esplanade Photo - ECPv6.15.20//NONSGML v1.0//EN
CALSCALE:GREGORIAN
METHOD:PUBLISH
X-WR-CALNAME:Esplanade Photo
X-ORIGINAL-URL:https://www.esplanadephoto.org
X-WR-CALDESC:Évènements pour Esplanade Photo
REFRESH-INTERVAL;VALUE=DURATION:PT1H
X-Robots-Tag:noindex
X-PUBLISHED-TTL:PT1H
BEGIN:VTIMEZONE
TZID:Europe/Paris
BEGIN:DAYLIGHT
TZOFFSETFROM:+0100
TZOFFSETTO:+0200
TZNAME:CEST
DTSTART:20200329T010000
END:DAYLIGHT
BEGIN:STANDARD
TZOFFSETFROM:+0200
TZOFFSETTO:+0100
TZNAME:CET
DTSTART:20201025T010000
END:STANDARD
BEGIN:DAYLIGHT
TZOFFSETFROM:+0100
TZOFFSETTO:+0200
TZNAME:CEST
DTSTART:20210328T010000
END:DAYLIGHT
BEGIN:STANDARD
TZOFFSETFROM:+0200
TZOFFSETTO:+0100
TZNAME:CET
DTSTART:20211031T010000
END:STANDARD
BEGIN:DAYLIGHT
TZOFFSETFROM:+0100
TZOFFSETTO:+0200
TZNAME:CEST
DTSTART:20220327T010000
END:DAYLIGHT
BEGIN:STANDARD
TZOFFSETFROM:+0200
TZOFFSETTO:+0100
TZNAME:CET
DTSTART:20221030T010000
END:STANDARD
END:VTIMEZONE
BEGIN:VEVENT
DTSTART;TZID=Europe/Paris:20210907T200000
DTEND;TZID=Europe/Paris:20210907T220000
DTSTAMP:20260423T025945
CREATED:20210623T062145Z
LAST-MODIFIED:20220128T184602Z
UID:9592-1631044800-1631052000@www.esplanadephoto.org
SUMMARY:Atelier de bienvenue et de prise en main de nos outils collaboratifs
DESCRIPTION:Atelier de bienvenue et de prise en main de nos outils collaboratifs. \nEn ligne et en direct de 20h à 22h. \n 
URL:https://www.esplanadephoto.org/calendrier-esplanade-photo/atelier-de-bienvenue-et-de-prise-en-main-de-nos-outils-collaboratifs/
LOCATION:Atelier interactif en ligne et en direct sur www.esplanadephoto.org
CATEGORIES:Rencontres Photographiques en Ligne 2021-2022
ATTACH;FMTTYPE=image/jpeg:https://www.esplanadephoto.org/wp-content/uploads/2020/08/FLEURS-DE-NOS-JARDINS_03.jpg
END:VEVENT
END:VCALENDAR