BEGIN:VCALENDAR
VERSION:2.0
PRODID:-//Esplanade Photo - ECPv6.15.20//NONSGML v1.0//EN
CALSCALE:GREGORIAN
METHOD:PUBLISH
X-ORIGINAL-URL:https://www.esplanadephoto.org
X-WR-CALDESC:Évènements pour Esplanade Photo
REFRESH-INTERVAL;VALUE=DURATION:PT1H
X-Robots-Tag:noindex
X-PUBLISHED-TTL:PT1H
BEGIN:VTIMEZONE
TZID:Europe/Paris
BEGIN:DAYLIGHT
TZOFFSETFROM:+0100
TZOFFSETTO:+0200
TZNAME:CEST
DTSTART:20200329T010000
END:DAYLIGHT
BEGIN:STANDARD
TZOFFSETFROM:+0200
TZOFFSETTO:+0100
TZNAME:CET
DTSTART:20201025T010000
END:STANDARD
BEGIN:DAYLIGHT
TZOFFSETFROM:+0100
TZOFFSETTO:+0200
TZNAME:CEST
DTSTART:20210328T010000
END:DAYLIGHT
BEGIN:STANDARD
TZOFFSETFROM:+0200
TZOFFSETTO:+0100
TZNAME:CET
DTSTART:20211031T010000
END:STANDARD
BEGIN:DAYLIGHT
TZOFFSETFROM:+0100
TZOFFSETTO:+0200
TZNAME:CEST
DTSTART:20220327T010000
END:DAYLIGHT
BEGIN:STANDARD
TZOFFSETFROM:+0200
TZOFFSETTO:+0100
TZNAME:CET
DTSTART:20221030T010000
END:STANDARD
END:VTIMEZONE
BEGIN:VEVENT
DTSTART;VALUE=DATE:20210526
DTEND;VALUE=DATE:20210625
DTSTAMP:20260425T173130
CREATED:20210506T081751Z
LAST-MODIFIED:20211019T063108Z
UID:9092-1621987200-1624579199@www.esplanadephoto.org
SUMMARY:Exposition "Les jours d'avant 2018 finale de la coupe du monde" du photographe Jean-Claude Figuenwald
DESCRIPTION:La galerie Esplanade Photo est heureuse de présenter l’exposition « Les jours d’avant 2018 finale de la coupe du monde » du photographe Jean-Claude Figuenwald.\n“Dans la mesure de mes possibilités j’ai toujours aimé photographier les grands évènements nationaux ou mondiaux\, sportifs\, politiques ou historiques dans la rue plutôt que les  » grands de ce monde  » censés en être les acteurs … la rue est toujours plus vraie et vivante que les cérémonies officielles liées à ces évènements ….\nDans cette optique\, je suis allé photographier la 1ère élection d’Obama en 2008 à New York \, le mariage de William et Kate en 2011 à Londres et le 70ème anniversaire de la victoire sur le nazisme en mai 2015 à Moscou ….\nPour la finale de la Coupe du Monde de Foot en 2018 à Paris … je suis parti à pieds de chez moi et j’ai marché jusqu’à la place de l’Étoile en faisant des photos\, au fur et à mesure l’ambiance montait et les gens affluaient aux Champs Elysées … c’était la 3eme fois après Mai 1981 et les attentats contre Charlie Hebdo que je voyais le peuple de Paris dans la rue mais là ça dépassait tout ce qu’on pouvait espérer \, et ça reste un très bon souvenir.\nEt en ces temps de pandémie et de distanciation sociale on peut souhaiter que ces photos nous donnent de l’espoir pour l’avenir….”\nPour accéder à l’exposition interactive et virtuelle\, cliquez sur « Les jours d’avant 2018 finale de la coupe du monde »
URL:https://www.esplanadephoto.org/calendrier-esplanade-photo/exposition-les-jours-davant-2018-finale-de-la-coupe-du-monde-du-photographe-jean-claude-figuenwald/
LOCATION:Galerie Esplanade Photo
CATEGORIES:Galerie Esplanade Photo
ATTACH;FMTTYPE=image/png:https://www.esplanadephoto.org/wp-content/uploads/2021/05/Galerie-Esplanade-Photo-Jean-Claude-FIGENWALD_01.png
END:VEVENT
BEGIN:VEVENT
DTSTART;TZID=Europe/Paris:20210619T090000
DTEND;TZID=Europe/Paris:20210619T120000
DTSTAMP:20260425T173130
CREATED:20200505T090735Z
LAST-MODIFIED:20200505T090827Z
UID:5936-1624093200-1624104000@www.esplanadephoto.org
SUMMARY:Balades Photographiques à la Défense 2021-06-19
DESCRIPTION:Balades Photographiques à la Défense 2021-06-19.\nSorties photos thématiques permettant d’échanger sur le terrain avec des exemples concrets sur les techniques\, le fonctionnement de votre appareil\, la réalisation de tel ou tel effet\, etc. Les samedis à La Défense de 09h00 à 12h00.
URL:https://www.esplanadephoto.org/calendrier-esplanade-photo/balades-photographiques-a-la-defense-2021-06-19/
LOCATION:Esplanade de la Défense\, 7\, Place de la Défense\, Courbevoie\, 92400\, France
CATEGORIES:Balades Photographiques à la Défense 2020-2021
ATTACH;FMTTYPE=image/jpeg:https://www.esplanadephoto.org/wp-content/uploads/2018/09/Photo-Club-Courbevoie-La-Défense-Esplanade-Photo-09.jpg
ORGANIZER;CN="Association ESPLANADE PHOTO":MAILTO:contact@esplanadephoto.org
END:VEVENT
BEGIN:VEVENT
DTSTART;TZID=Europe/Paris:20210619T143000
DTEND;TZID=Europe/Paris:20210619T163000
DTSTAMP:20260425T173130
CREATED:20200505T084943Z
LAST-MODIFIED:20200505T085103Z
UID:5915-1624113000-1624120200@www.esplanadephoto.org
SUMMARY:Visites Photographiques 2021-06-19
DESCRIPTION:Visites Photographiques 2021-06-19.\nNous nous retrouvons pour une visite d’exposition\, moyen essentiel d’acquérir ou d’approfondir sa culture photographique.\nLes dates de sorties de la saison sont fixées sur le calendrier (environ dix par an).\nNous annoncerons le nom de l’exposition et le lieu sur le forum une semaine à l’avance.\nVisites mensuelles les samedis à Paris de 14h30 à 16h30.
URL:https://www.esplanadephoto.org/calendrier-esplanade-photo/visites-photographiques-2021-06-19/
LOCATION:Paris\, Parvis de l’Hôtel de Ville\, Paris\, 75004\, France
CATEGORIES:Visites Photographiques 2020-2021
ATTACH;FMTTYPE=image/jpeg:https://www.esplanadephoto.org/wp-content/uploads/2018/09/Photo-Club-Courbevoie-La-Défense-Esplanade-Photo-05.jpg
ORGANIZER;CN="Association ESPLANADE PHOTO":MAILTO:contact@esplanadephoto.org
END:VEVENT
END:VCALENDAR